BEGIN:VCALENDAR
VERSION:2.0
PRODID:-//Al-Huda Muslim Society - ECPv6.15.12.2//NONSGML v1.0//EN
CALSCALE:GREGORIAN
METHOD:PUBLISH
X-ORIGINAL-URL:https://alhudamuslimsociety.com
X-WR-CALDESC:Events for Al-Huda Muslim Society
REFRESH-INTERVAL;VALUE=DURATION:PT1H
X-Robots-Tag:noindex
X-PUBLISHED-TTL:PT1H
BEGIN:VTIMEZONE
TZID:America/Toronto
BEGIN:DAYLIGHT
TZOFFSETFROM:-0500
TZOFFSETTO:-0400
TZNAME:EDT
DTSTART:20210314T070000
END:DAYLIGHT
BEGIN:STANDARD
TZOFFSETFROM:-0400
TZOFFSETTO:-0500
TZNAME:EST
DTSTART:20211107T060000
END:STANDARD
BEGIN:DAYLIGHT
TZOFFSETFROM:-0500
TZOFFSETTO:-0400
TZNAME:EDT
DTSTART:20220313T070000
END:DAYLIGHT
BEGIN:STANDARD
TZOFFSETFROM:-0400
TZOFFSETTO:-0500
TZNAME:EST
DTSTART:20221106T060000
END:STANDARD
BEGIN:DAYLIGHT
TZOFFSETFROM:-0500
TZOFFSETTO:-0400
TZNAME:EDT
DTSTART:20230312T070000
END:DAYLIGHT
BEGIN:STANDARD
TZOFFSETFROM:-0400
TZOFFSETTO:-0500
TZNAME:EST
DTSTART:20231105T060000
END:STANDARD
END:VTIMEZONE
BEGIN:VEVENT
DTSTART;TZID=America/Toronto:20220423T190000
DTEND;TZID=America/Toronto:20220423T190000
DTSTAMP:20260422T010146
CREATED:20220418T203903Z
LAST-MODIFIED:20220418T203903Z
UID:1397-1650740400-1650740400@alhudamuslimsociety.com
SUMMARY:قراءة الجزء  الواحد والعشرون من القرآن الكريم
DESCRIPTION:
URL:https://alhudamuslimsociety.com/event/%d9%82%d8%b1%d8%a7%d8%a1%d8%a9-%d8%a7%d9%84%d8%ac%d8%b2%d8%a1-%d8%a7%d9%84%d9%88%d8%a7%d8%ad%d8%af-%d9%88%d8%a7%d9%84%d8%b9%d8%b4%d8%b1%d9%88%d9%86-%d9%85%d9%86-%d8%a7%d9%84%d9%82%d8%b1%d8%a2%d9%86-2/
CATEGORIES:General,Mosque Programs
END:VEVENT
BEGIN:VEVENT
DTSTART;TZID=America/Toronto:20220422T200000
DTEND;TZID=America/Toronto:20220422T200000
DTSTAMP:20260422T010146
CREATED:20220418T205626Z
LAST-MODIFIED:20220418T205626Z
UID:1420-1650657600-1650657600@alhudamuslimsociety.com
SUMMARY:احياء ليلة القدر الثانية
DESCRIPTION:
URL:https://alhudamuslimsociety.com/event/%d8%a7%d8%ad%d9%8a%d8%a7%d8%a1-%d9%84%d9%8a%d9%84%d8%a9-%d8%a7%d9%84%d9%82%d8%af%d8%b1-%d8%a7%d9%84%d8%ab%d8%a7%d9%86%d9%8a%d8%a9-2/
CATEGORIES:General,Mosque Programs
END:VEVENT
BEGIN:VEVENT
DTSTART;TZID=America/Toronto:20220422T190000
DTEND;TZID=America/Toronto:20220422T190000
DTSTAMP:20260422T010146
CREATED:20220418T203838Z
LAST-MODIFIED:20220418T203838Z
UID:1398-1650654000-1650654000@alhudamuslimsociety.com
SUMMARY:قراءة الجزء العشرون من القرآن الكريم
DESCRIPTION:
URL:https://alhudamuslimsociety.com/event/%d9%82%d8%b1%d8%a7%d8%a1%d8%a9-%d8%a7%d9%84%d8%ac%d8%b2%d8%a1-%d8%a7%d9%84%d8%b9%d8%b4%d8%b1%d9%88%d9%86-%d9%85%d9%86-%d8%a7%d9%84%d9%82%d8%b1%d8%a2%d9%86-%d8%a7%d9%84%d9%83%d8%b1%d9%8a%d9%85/
CATEGORIES:General,Mosque Programs
END:VEVENT
BEGIN:VEVENT
DTSTART;TZID=America/Toronto:20220421T213000
DTEND;TZID=America/Toronto:20220421T213000
DTSTAMP:20260422T010146
CREATED:20220418T205558Z
LAST-MODIFIED:20220418T205602Z
UID:1418-1650576600-1650576600@alhudamuslimsociety.com
SUMMARY:دعاء كميل + موعظة + مجلس عزاء
DESCRIPTION:
URL:https://alhudamuslimsociety.com/event/%d8%af%d8%b9%d8%a7%d8%a1-%d9%83%d9%85%d9%8a%d9%84-%d9%85%d9%88%d8%b9%d8%b8%d8%a9-%d9%85%d8%ac%d9%84%d8%b3-%d8%b9%d8%b2%d8%a7%d8%a1/
CATEGORIES:General,Mosque Programs
END:VEVENT
BEGIN:VEVENT
DTSTART;TZID=America/Toronto:20220421T190000
DTEND;TZID=America/Toronto:20220421T190000
DTSTAMP:20260422T010146
CREATED:20220418T203336Z
LAST-MODIFIED:20220418T203745Z
UID:1399-1650567600-1650567600@alhudamuslimsociety.com
SUMMARY:قراءة الجزء التاسع عشر من القرآن الكريم
DESCRIPTION:
URL:https://alhudamuslimsociety.com/event/%d9%82%d8%b1%d8%a7%d8%a1%d8%a9-%d8%a7%d9%84%d8%ac%d8%b2%d8%a1-%d8%a7%d9%84%d8%aa%d8%a7%d8%b3%d8%b9-%d8%b9%d8%b4%d8%b1-%d9%85%d9%86-%d8%a7%d9%84%d9%82%d8%b1%d8%a2%d9%86-%d8%a7%d9%84%d9%83%d8%b1%d9%8a/
CATEGORIES:General,Mosque Programs
END:VEVENT
BEGIN:VEVENT
DTSTART;TZID=America/Toronto:20220420T213000
DTEND;TZID=America/Toronto:20220420T213000
DTSTAMP:20260422T010146
CREATED:20220418T205534Z
LAST-MODIFIED:20220418T205534Z
UID:1416-1650490200-1650490200@alhudamuslimsociety.com
SUMMARY:احياء ليلة القدر الأولى
DESCRIPTION:
URL:https://alhudamuslimsociety.com/event/%d8%a7%d8%ad%d9%8a%d8%a7%d8%a1-%d9%84%d9%8a%d9%84%d8%a9-%d8%a7%d9%84%d9%82%d8%af%d8%b1-%d8%a7%d9%84%d8%a3%d9%88%d9%84%d9%89/
CATEGORIES:General,Mosque Programs
END:VEVENT
BEGIN:VEVENT
DTSTART;TZID=America/Toronto:20220420T190000
DTEND;TZID=America/Toronto:20220420T190000
DTSTAMP:20260422T010146
CREATED:20220418T203315Z
LAST-MODIFIED:20220418T203315Z
UID:1400-1650481200-1650481200@alhudamuslimsociety.com
SUMMARY:قراءة الجزء الثامن عشر من القرآن الكريم
DESCRIPTION:
URL:https://alhudamuslimsociety.com/event/%d9%82%d8%b1%d8%a7%d8%a1%d8%a9-%d8%a7%d9%84%d8%ac%d8%b2%d8%a1-%d8%a7%d9%84%d8%ab%d8%a7%d9%85%d9%86-%d8%b9%d8%b4%d8%b1-%d9%85%d9%86-%d8%a7%d9%84%d9%82%d8%b1%d8%a2%d9%86-%d8%a7%d9%84%d9%83%d8%b1%d9%8a/
CATEGORIES:General,Mosque Programs
END:VEVENT
BEGIN:VEVENT
DTSTART;TZID=America/Toronto:20220419T213000
DTEND;TZID=America/Toronto:20220419T213000
DTSTAMP:20260422T010146
CREATED:20220418T205505Z
LAST-MODIFIED:20220418T205505Z
UID:1412-1650403800-1650403800@alhudamuslimsociety.com
SUMMARY:دعاء الافتتاح Duaa Iftitah
DESCRIPTION:
URL:https://alhudamuslimsociety.com/event/%d8%af%d8%b9%d8%a7%d8%a1-%d8%a7%d9%84%d8%a7%d9%81%d8%aa%d8%aa%d8%a7%d8%ad-duaa-iftitah-3/
CATEGORIES:General,Mosque Programs
END:VEVENT
BEGIN:VEVENT
DTSTART;TZID=America/Toronto:20220419T190000
DTEND;TZID=America/Toronto:20220419T190000
DTSTAMP:20260422T010146
CREATED:20220418T203256Z
LAST-MODIFIED:20220418T203256Z
UID:1401-1650394800-1650394800@alhudamuslimsociety.com
SUMMARY:قراءة الجزء السابع عشر من القرآن الكريم
DESCRIPTION:
URL:https://alhudamuslimsociety.com/event/%d9%82%d8%b1%d8%a7%d8%a1%d8%a9-%d8%a7%d9%84%d8%ac%d8%b2%d8%a1-%d8%a7%d9%84%d8%b3%d8%a7%d8%a8%d8%b9-%d8%b9%d8%b4%d8%b1-%d9%85%d9%86-%d8%a7%d9%84%d9%82%d8%b1%d8%a2%d9%86-%d8%a7%d9%84%d9%83%d8%b1%d9%8a-2/
CATEGORIES:General,Mosque Programs
END:VEVENT
BEGIN:VEVENT
DTSTART;TZID=America/Toronto:20220418T213000
DTEND;TZID=America/Toronto:20220418T213000
DTSTAMP:20260422T010146
CREATED:20220418T205452Z
LAST-MODIFIED:20220418T205452Z
UID:1413-1650317400-1650317400@alhudamuslimsociety.com
SUMMARY:دعاء الافتتاح Duaa Iftitah
DESCRIPTION:
URL:https://alhudamuslimsociety.com/event/%d8%af%d8%b9%d8%a7%d8%a1-%d8%a7%d9%84%d8%a7%d9%81%d8%aa%d8%aa%d8%a7%d8%ad-duaa-iftitah-2/
CATEGORIES:General,Mosque Programs
END:VEVENT
BEGIN:VEVENT
DTSTART;TZID=America/Toronto:20220418T190000
DTEND;TZID=America/Toronto:20220418T190000
DTSTAMP:20260422T010146
CREATED:20220418T203237Z
LAST-MODIFIED:20220418T203237Z
UID:1402-1650308400-1650308400@alhudamuslimsociety.com
SUMMARY:قراءة الجزء السادس عشر من القرآن الكريم
DESCRIPTION:
URL:https://alhudamuslimsociety.com/event/%d9%82%d8%b1%d8%a7%d8%a1%d8%a9-%d8%a7%d9%84%d8%ac%d8%b2%d8%a1-%d8%a7%d9%84%d8%b3%d8%a7%d8%af%d8%b3-%d8%b9%d8%b4%d8%b1-%d9%85%d9%86-%d8%a7%d9%84%d9%82%d8%b1%d8%a2%d9%86-%d8%a7%d9%84%d9%83%d8%b1%d9%8a-2/
CATEGORIES:General,Mosque Programs
END:VEVENT
BEGIN:VEVENT
DTSTART;TZID=America/Toronto:20220417T213000
DTEND;TZID=America/Toronto:20220417T213000
DTSTAMP:20260422T010146
CREATED:20220411T084713Z
LAST-MODIFIED:20220411T084713Z
UID:1381-1650231000-1650231000@alhudamuslimsociety.com
SUMMARY:دعاء الافتتاح Duaa Iftitah
DESCRIPTION:
URL:https://alhudamuslimsociety.com/event/%d8%af%d8%b9%d8%a7%d8%a1-%d8%a7%d9%84%d8%a7%d9%81%d8%aa%d8%aa%d8%a7%d8%ad-duaa-iftitah/
CATEGORIES:General,Mosque Programs
END:VEVENT
BEGIN:VEVENT
DTSTART;TZID=America/Toronto:20220417T190000
DTEND;TZID=America/Toronto:20220417T190000
DTSTAMP:20260422T010146
CREATED:20220411T084600Z
LAST-MODIFIED:20220414T094531Z
UID:1379-1650222000-1650222000@alhudamuslimsociety.com
SUMMARY:قراءة الجزء الخامس عشر من القرآن الكريم
DESCRIPTION:
URL:https://alhudamuslimsociety.com/event/%d9%82%d8%b1%d8%a7%d8%a1%d8%a9-%d8%a7%d9%84%d8%ac%d8%b2%d8%a1-%d8%a7%d9%84%d8%b3%d8%a7%d8%a8%d8%b9-%d8%b9%d8%b4%d8%b1-%d9%85%d9%86-%d8%a7%d9%84%d9%82%d8%b1%d8%a2%d9%86-%d8%a7%d9%84%d9%83%d8%b1%d9%8a/
CATEGORIES:General,Mosque Programs
END:VEVENT
BEGIN:VEVENT
DTSTART;TZID=America/Toronto:20220416T200000
DTEND;TZID=America/Toronto:20220416T230000
DTSTAMP:20260422T010146
CREATED:20220411T084313Z
LAST-MODIFIED:20220411T084313Z
UID:1363-1650139200-1650150000@alhudamuslimsociety.com
SUMMARY:افطار عام ودعاء الافتتاح ومحاضرة
DESCRIPTION:
URL:https://alhudamuslimsociety.com/event/%d8%a7%d9%81%d8%b7%d8%a7%d8%b1-%d8%b9%d8%a7%d9%85-%d9%88%d8%af%d8%b9%d8%a7%d8%a1-%d8%a7%d9%84%d8%a7%d9%81%d8%aa%d8%aa%d8%a7%d8%ad-%d9%88%d9%85%d8%ad%d8%a7%d8%b6%d8%b1%d8%a9-2/
CATEGORIES:General,Mosque Programs
END:VEVENT
BEGIN:VEVENT
DTSTART;TZID=America/Toronto:20220416T190000
DTEND;TZID=America/Toronto:20220416T190000
DTSTAMP:20260422T010146
CREATED:20220411T084537Z
LAST-MODIFIED:20220414T094344Z
UID:1371-1650135600-1650135600@alhudamuslimsociety.com
SUMMARY:قراءة الجزء الرابع عشر من القرآن الكريم
DESCRIPTION:
URL:https://alhudamuslimsociety.com/event/%d9%82%d8%b1%d8%a7%d8%a1%d8%a9-%d8%a7%d9%84%d8%ac%d8%b2%d8%a1-%d8%a7%d9%84%d8%b3%d8%a7%d8%af%d8%b3-%d8%b9%d8%b4%d8%b1-%d9%85%d9%86-%d8%a7%d9%84%d9%82%d8%b1%d8%a2%d9%86-%d8%a7%d9%84%d9%83%d8%b1%d9%8a/
CATEGORIES:General,Mosque Programs
END:VEVENT
BEGIN:VEVENT
DTSTART;TZID=America/Toronto:20220415T213000
DTEND;TZID=America/Toronto:20220415T213000
DTSTAMP:20260422T010146
CREATED:20220411T084348Z
LAST-MODIFIED:20220414T094300Z
UID:1365-1650058200-1650058200@alhudamuslimsociety.com
SUMMARY:دعاء الافتتاح ومحاضرة ومجلس عزاءDuaa Iftitah and Lecture and Majlis Azaa
DESCRIPTION:
URL:https://alhudamuslimsociety.com/event/%d8%af%d8%b9%d8%a7%d8%a1-%d8%a7%d9%84%d8%a7%d9%81%d8%aa%d8%aa%d8%a7%d8%ad-%d9%88%d9%85%d8%ad%d8%a7%d8%b6%d8%b1%d8%a9-duaa-iftitah-and-lecture/
CATEGORIES:General,Mosque Programs
END:VEVENT
BEGIN:VEVENT
DTSTART;TZID=America/Toronto:20220415T190000
DTEND;TZID=America/Toronto:20220415T190000
DTSTAMP:20260422T010146
CREATED:20220411T084521Z
LAST-MODIFIED:20220414T094331Z
UID:1370-1650049200-1650049200@alhudamuslimsociety.com
SUMMARY:قراءة الجزء الثالث عشر من القرآن الكريم
DESCRIPTION:
URL:https://alhudamuslimsociety.com/event/%d9%82%d8%b1%d8%a7%d8%a1%d8%a9-%d8%a7%d9%84%d8%ac%d8%b2%d8%a1-%d8%a7%d9%84%d8%ae%d8%a7%d9%85%d8%b3-%d8%b9%d8%b4%d8%b1-%d9%85%d9%86-%d8%a7%d9%84%d9%82%d8%b1%d8%a2%d9%86-%d8%a7%d9%84%d9%83%d8%b1%d9%8a/
CATEGORIES:General,Mosque Programs
END:VEVENT
BEGIN:VEVENT
DTSTART;TZID=America/Toronto:20220415T133000
DTEND;TZID=America/Toronto:20220415T133000
DTSTAMP:20260422T010146
CREATED:20220411T084743Z
LAST-MODIFIED:20220411T084743Z
UID:1383-1650029400-1650029400@alhudamuslimsociety.com
SUMMARY:Friday Prayers
DESCRIPTION:
URL:https://alhudamuslimsociety.com/event/friday-prayers-15/
CATEGORIES:General
END:VEVENT
BEGIN:VEVENT
DTSTART;TZID=America/Toronto:20220414T213000
DTEND;TZID=America/Toronto:20220414T213000
DTSTAMP:20260422T010146
CREATED:20220411T084259Z
LAST-MODIFIED:20220411T084259Z
UID:1361-1649971800-1649971800@alhudamuslimsociety.com
SUMMARY:دعاء كميل ومحاضرة Duaa Kumail and Lecture
DESCRIPTION:
URL:https://alhudamuslimsociety.com/event/%d8%af%d8%b9%d8%a7%d8%a1-%d9%83%d9%85%d9%8a%d9%84-%d9%88%d9%85%d8%ad%d8%a7%d8%b6%d8%b1%d8%a9-duaa-kumail-and-lecture/
CATEGORIES:General,Mosque Programs
END:VEVENT
BEGIN:VEVENT
DTSTART;TZID=America/Toronto:20220414T190000
DTEND;TZID=America/Toronto:20220414T190000
DTSTAMP:20260422T010146
CREATED:20220411T084503Z
LAST-MODIFIED:20220411T084503Z
UID:1369-1649962800-1649962800@alhudamuslimsociety.com
SUMMARY:قراءة الجزء الثاني عشر من القرآن الكريم
DESCRIPTION:
URL:https://alhudamuslimsociety.com/event/%d9%82%d8%b1%d8%a7%d8%a1%d8%a9-%d8%a7%d9%84%d8%ac%d8%b2%d8%a1-%d8%a7%d9%84%d8%ab%d8%a7%d9%86%d9%8a-%d8%b9%d8%b4%d8%b1-%d9%85%d9%86-%d8%a7%d9%84%d9%82%d8%b1%d8%a2%d9%86-%d8%a7%d9%84%d9%83%d8%b1%d9%8a/
CATEGORIES:General,Mosque Programs
END:VEVENT
BEGIN:VEVENT
DTSTART;TZID=America/Toronto:20220413T213000
DTEND;TZID=America/Toronto:20220413T213000
DTSTAMP:20260422T010146
CREATED:20220411T084202Z
LAST-MODIFIED:20220411T084202Z
UID:1357-1649885400-1649885400@alhudamuslimsociety.com
SUMMARY:دعاء الافتتاح Duaa Al Iftitah
DESCRIPTION:
URL:https://alhudamuslimsociety.com/event/%d8%af%d8%b9%d8%a7%d8%a1-%d8%a7%d9%84%d8%a7%d9%81%d8%aa%d8%aa%d8%a7%d8%ad-duaa-al-iftitah-7/
CATEGORIES:General,Mosque Programs
END:VEVENT
BEGIN:VEVENT
DTSTART;TZID=America/Toronto:20220413T190000
DTEND;TZID=America/Toronto:20220413T190000
DTSTAMP:20260422T010146
CREATED:20220411T084447Z
LAST-MODIFIED:20220411T084447Z
UID:1368-1649876400-1649876400@alhudamuslimsociety.com
SUMMARY:قراءة الجزء الحادي عشر من القرآن الكريم
DESCRIPTION:
URL:https://alhudamuslimsociety.com/event/%d9%82%d8%b1%d8%a7%d8%a1%d8%a9-%d8%a7%d9%84%d8%ac%d8%b2%d8%a1-%d8%a7%d9%84%d8%ad%d8%a7%d8%af%d9%8a-%d8%b9%d8%b4%d8%b1-%d9%85%d9%86-%d8%a7%d9%84%d9%82%d8%b1%d8%a2%d9%86-%d8%a7%d9%84%d9%83%d8%b1%d9%8a/
CATEGORIES:General,Mosque Programs
END:VEVENT
BEGIN:VEVENT
DTSTART;TZID=America/Toronto:20220412T213000
DTEND;TZID=America/Toronto:20220412T213000
DTSTAMP:20260422T010146
CREATED:20220411T084149Z
LAST-MODIFIED:20220411T084217Z
UID:1356-1649799000-1649799000@alhudamuslimsociety.com
SUMMARY:دعاء الافتتاح Duaa Al Iftitah
DESCRIPTION:
URL:https://alhudamuslimsociety.com/event/%d8%af%d8%b9%d8%a7%d8%a1-%d8%a7%d9%84%d8%a7%d9%81%d8%aa%d8%aa%d8%a7%d8%ad-duaa-al-iftitah-6/
CATEGORIES:General,Mosque Programs
END:VEVENT
BEGIN:VEVENT
DTSTART;TZID=America/Toronto:20220412T190000
DTEND;TZID=America/Toronto:20220412T190000
DTSTAMP:20260422T010146
CREATED:20220411T084429Z
LAST-MODIFIED:20220411T084429Z
UID:1367-1649790000-1649790000@alhudamuslimsociety.com
SUMMARY:قراءة الجزء العاشر من القرآن الكريم
DESCRIPTION:
URL:https://alhudamuslimsociety.com/event/%d9%82%d8%b1%d8%a7%d8%a1%d8%a9-%d8%a7%d9%84%d8%ac%d8%b2%d8%a1-%d8%a7%d9%84%d8%b9%d8%a7%d8%b4%d8%b1-%d9%85%d9%86-%d8%a7%d9%84%d9%82%d8%b1%d8%a2%d9%86-%d8%a7%d9%84%d9%83%d8%b1%d9%8a%d9%85/
CATEGORIES:General,Mosque Programs
END:VEVENT
BEGIN:VEVENT
DTSTART;TZID=America/Toronto:20220411T213000
DTEND;TZID=America/Toronto:20220411T213000
DTSTAMP:20260422T010146
CREATED:20220411T084135Z
LAST-MODIFIED:20220411T084135Z
UID:1355-1649712600-1649712600@alhudamuslimsociety.com
SUMMARY:دعاء الافتتاح Duaa Al Iftitah
DESCRIPTION:
URL:https://alhudamuslimsociety.com/event/%d8%af%d8%b9%d8%a7%d8%a1-%d8%a7%d9%84%d8%a7%d9%81%d8%aa%d8%aa%d8%a7%d8%ad-duaa-al-iftitah-5/
CATEGORIES:General,Mosque Programs
END:VEVENT
BEGIN:VEVENT
DTSTART;TZID=America/Toronto:20220411T190000
DTEND;TZID=America/Toronto:20220411T190000
DTSTAMP:20260422T010146
CREATED:20220411T084415Z
LAST-MODIFIED:20220411T084415Z
UID:1372-1649703600-1649703600@alhudamuslimsociety.com
SUMMARY:قراءة الجزء التاسع من القرآن الكريم
DESCRIPTION:
URL:https://alhudamuslimsociety.com/event/%d9%82%d8%b1%d8%a7%d8%a1%d8%a9-%d8%a7%d9%84%d8%ac%d8%b2%d8%a1-%d8%a7%d9%84%d8%aa%d8%a7%d8%b3%d8%b9-%d9%85%d9%86-%d8%a7%d9%84%d9%82%d8%b1%d8%a2%d9%86-%d8%a7%d9%84%d9%83%d8%b1%d9%8a%d9%85-2/
CATEGORIES:General,Mosque Programs
END:VEVENT
BEGIN:VEVENT
DTSTART;TZID=America/Toronto:20220409T200000
DTEND;TZID=America/Toronto:20220409T230000
DTSTAMP:20260422T010146
CREATED:20220405T073855Z
LAST-MODIFIED:20220405T073855Z
UID:1348-1649534400-1649545200@alhudamuslimsociety.com
SUMMARY:افطار عام ودعاء الافتتاح ومحاضرة
DESCRIPTION:
URL:https://alhudamuslimsociety.com/event/%d8%a7%d9%81%d8%b7%d8%a7%d8%b1-%d8%b9%d8%a7%d9%85-%d9%88%d8%af%d8%b9%d8%a7%d8%a1-%d8%a7%d9%84%d8%a7%d9%81%d8%aa%d8%aa%d8%a7%d8%ad-%d9%88%d9%85%d8%ad%d8%a7%d8%b6%d8%b1%d8%a9/
CATEGORIES:General,Mosque Programs
END:VEVENT
BEGIN:VEVENT
DTSTART;TZID=America/Toronto:20220409T190000
DTEND;TZID=America/Toronto:20220409T190000
DTSTAMP:20260422T010146
CREATED:20220405T073931Z
LAST-MODIFIED:20220405T073931Z
UID:1352-1649530800-1649530800@alhudamuslimsociety.com
SUMMARY:قراءة الجزء السابع من القرآن الكريم
DESCRIPTION:
URL:https://alhudamuslimsociety.com/event/%d9%82%d8%b1%d8%a7%d8%a1%d8%a9-%d8%a7%d9%84%d8%ac%d8%b2%d8%a1-%d8%a7%d9%84%d8%b3%d8%a7%d8%a8%d8%b9-%d9%85%d9%86-%d8%a7%d9%84%d9%82%d8%b1%d8%a2%d9%86-%d8%a7%d9%84%d9%83%d8%b1%d9%8a%d9%85-2/
CATEGORIES:General,Mosque Programs
END:VEVENT
BEGIN:VEVENT
DTSTART;TZID=America/Toronto:20220408T213000
DTEND;TZID=America/Toronto:20220408T213000
DTSTAMP:20260422T010146
CREATED:20220405T073829Z
LAST-MODIFIED:20220405T073829Z
UID:1346-1649453400-1649453400@alhudamuslimsociety.com
SUMMARY:دعاء الافتتاح ومحاضرة
DESCRIPTION:
URL:https://alhudamuslimsociety.com/event/%d8%af%d8%b9%d8%a7%d8%a1-%d8%a7%d9%84%d8%a7%d9%81%d8%aa%d8%aa%d8%a7%d8%ad-%d9%88%d9%85%d8%ad%d8%a7%d8%b6%d8%b1%d8%a9/
CATEGORIES:General,Mosque Programs
END:VEVENT
BEGIN:VEVENT
DTSTART;TZID=America/Toronto:20220408T190000
DTEND;TZID=America/Toronto:20220408T190000
DTSTAMP:20260422T010146
CREATED:20220405T073916Z
LAST-MODIFIED:20220405T073916Z
UID:1350-1649444400-1649444400@alhudamuslimsociety.com
SUMMARY:قراءة الجزء السادس من القرآن الكريم
DESCRIPTION:
URL:https://alhudamuslimsociety.com/event/%d9%82%d8%b1%d8%a7%d8%a1%d8%a9-%d8%a7%d9%84%d8%ac%d8%b2%d8%a1-%d8%a7%d9%84%d8%b3%d8%a7%d8%af%d8%b3-%d9%85%d9%86-%d8%a7%d9%84%d9%82%d8%b1%d8%a2%d9%86-%d8%a7%d9%84%d9%83%d8%b1%d9%8a%d9%85-2/
CATEGORIES:General,Mosque Programs
END:VEVENT
END:VCALENDAR