BEGIN:VCALENDAR
VERSION:2.0
PRODID:-//Al-Huda Muslim Society - ECPv6.15.12.2//NONSGML v1.0//EN
CALSCALE:GREGORIAN
METHOD:PUBLISH
X-ORIGINAL-URL:https://alhudamuslimsociety.com
X-WR-CALDESC:Events for Al-Huda Muslim Society
REFRESH-INTERVAL;VALUE=DURATION:PT1H
X-Robots-Tag:noindex
X-PUBLISHED-TTL:PT1H
BEGIN:VTIMEZONE
TZID:America/Toronto
BEGIN:DAYLIGHT
TZOFFSETFROM:-0500
TZOFFSETTO:-0400
TZNAME:EDT
DTSTART:20210314T070000
END:DAYLIGHT
BEGIN:STANDARD
TZOFFSETFROM:-0400
TZOFFSETTO:-0500
TZNAME:EST
DTSTART:20211107T060000
END:STANDARD
BEGIN:DAYLIGHT
TZOFFSETFROM:-0500
TZOFFSETTO:-0400
TZNAME:EDT
DTSTART:20220313T070000
END:DAYLIGHT
BEGIN:STANDARD
TZOFFSETFROM:-0400
TZOFFSETTO:-0500
TZNAME:EST
DTSTART:20221106T060000
END:STANDARD
BEGIN:DAYLIGHT
TZOFFSETFROM:-0500
TZOFFSETTO:-0400
TZNAME:EDT
DTSTART:20230312T070000
END:DAYLIGHT
BEGIN:STANDARD
TZOFFSETFROM:-0400
TZOFFSETTO:-0500
TZNAME:EST
DTSTART:20231105T060000
END:STANDARD
END:VTIMEZONE
BEGIN:VEVENT
DTSTART;TZID=America/Toronto:20220729T130000
DTEND;TZID=America/Toronto:20220729T130000
DTSTAMP:20260421T190936
CREATED:20220722T230217Z
LAST-MODIFIED:20220722T230217Z
UID:1565-1659099600-1659099600@alhudamuslimsociety.com
SUMMARY:Friday Prayers
DESCRIPTION: 
URL:https://alhudamuslimsociety.com/event/friday-prayers-21/
CATEGORIES:General,Mosque Programs
END:VEVENT
BEGIN:VEVENT
DTSTART;TZID=America/Toronto:20220728T210000
DTEND;TZID=America/Toronto:20220728T210000
DTSTAMP:20260421T190936
CREATED:20220722T230124Z
LAST-MODIFIED:20220722T230124Z
UID:1563-1659042000-1659042000@alhudamuslimsociety.com
SUMMARY:Duaa Kumail
DESCRIPTION:
URL:https://alhudamuslimsociety.com/event/duaa-kumail-13/
CATEGORIES:General,Mosque Programs
END:VEVENT
BEGIN:VEVENT
DTSTART;TZID=America/Toronto:20220723T210000
DTEND;TZID=America/Toronto:20220723T210000
DTSTAMP:20260421T190936
CREATED:20220722T230042Z
LAST-MODIFIED:20220722T230042Z
UID:1561-1658610000-1658610000@alhudamuslimsociety.com
SUMMARY:Saturday Program
DESCRIPTION:
URL:https://alhudamuslimsociety.com/event/saturday-program-2/
CATEGORIES:General,Mosque Programs
END:VEVENT
BEGIN:VEVENT
DTSTART;TZID=America/Toronto:20220716T213000
DTEND;TZID=America/Toronto:20220716T213000
DTSTAMP:20260421T190936
CREATED:20220716T062135Z
LAST-MODIFIED:20220716T062135Z
UID:1549-1658007000-1658007000@alhudamuslimsociety.com
SUMMARY:عيد الغدير
DESCRIPTION:
URL:https://alhudamuslimsociety.com/event/%d8%b9%d9%8a%d8%af-%d8%a7%d9%84%d8%ba%d8%af%d9%8a%d8%b1/
CATEGORIES:General,Mosque Programs
END:VEVENT
BEGIN:VEVENT
DTSTART;TZID=America/Toronto:20220710T093000
DTEND;TZID=America/Toronto:20220710T093000
DTSTAMP:20260421T190936
CREATED:20220705T204503Z
LAST-MODIFIED:20220705T204503Z
UID:1541-1657445400-1657445400@alhudamuslimsociety.com
SUMMARY:صلاة عيد الأضحى المبارك
DESCRIPTION:
URL:https://alhudamuslimsociety.com/event/%d8%b5%d9%84%d8%a7%d8%a9-%d8%b9%d9%8a%d8%af-%d8%a7%d9%84%d8%a3%d8%b6%d8%ad%d9%89-%d8%a7%d9%84%d9%85%d8%a8%d8%a7%d8%b1%d9%83/
CATEGORIES:General,Mosque Programs
END:VEVENT
BEGIN:VEVENT
DTSTART;TZID=America/Toronto:20220709T170000
DTEND;TZID=America/Toronto:20220709T170000
DTSTAMP:20260421T190936
CREATED:20220705T204346Z
LAST-MODIFIED:20220705T204435Z
UID:1537-1657386000-1657386000@alhudamuslimsociety.com
SUMMARY:نشيد سلام يا مهدي
DESCRIPTION:
URL:https://alhudamuslimsociety.com/event/%d9%86%d8%b4%d9%8a%d8%af-%d8%b3%d9%84%d8%a7%d9%85-%d9%8a%d8%a7-%d9%85%d9%87%d8%af%d9%8a/
CATEGORIES:General,Mosque Programs
END:VEVENT
BEGIN:VEVENT
DTSTART;TZID=America/Toronto:20220709T133000
DTEND;TZID=America/Toronto:20220709T133000
DTSTAMP:20260421T190936
CREATED:20220705T204416Z
LAST-MODIFIED:20220705T204416Z
UID:1539-1657373400-1657373400@alhudamuslimsociety.com
SUMMARY:احياء يوم عرفة
DESCRIPTION:
URL:https://alhudamuslimsociety.com/event/%d8%a7%d8%ad%d9%8a%d8%a7%d8%a1-%d9%8a%d9%88%d9%85-%d8%b9%d8%b1%d9%81%d8%a9-2/
CATEGORIES:General,Mosque Programs
END:VEVENT
BEGIN:VEVENT
DTSTART;TZID=America/Toronto:20220708T180000
DTEND;TZID=America/Toronto:20220708T190000
DTSTAMP:20260421T190936
CREATED:20220705T204610Z
LAST-MODIFIED:20220705T204610Z
UID:1543-1657303200-1657306800@alhudamuslimsociety.com
SUMMARY:تدريب نشدي سلام يا مهدي
DESCRIPTION:
URL:https://alhudamuslimsociety.com/event/%d8%aa%d8%af%d8%b1%d9%8a%d8%a8-%d9%86%d8%b4%d8%af%d9%8a-%d8%b3%d9%84%d8%a7%d9%85-%d9%8a%d8%a7-%d9%85%d9%87%d8%af%d9%8a/
CATEGORIES:General,Mosque Programs
END:VEVENT
BEGIN:VEVENT
DTSTART;TZID=America/Toronto:20220708T133000
DTEND;TZID=America/Toronto:20220708T133000
DTSTAMP:20260421T190936
CREATED:20220705T204312Z
LAST-MODIFIED:20220705T204312Z
UID:1535-1657287000-1657287000@alhudamuslimsociety.com
SUMMARY:Friday Prayers
DESCRIPTION:
URL:https://alhudamuslimsociety.com/event/friday-prayers-20/
CATEGORIES:General,Mosque Programs
END:VEVENT
BEGIN:VEVENT
DTSTART;TZID=America/Toronto:20220707T210000
DTEND;TZID=America/Toronto:20220707T210000
DTSTAMP:20260421T190936
CREATED:20220705T204250Z
LAST-MODIFIED:20220705T204250Z
UID:1533-1657227600-1657227600@alhudamuslimsociety.com
SUMMARY:Duaa Kumail دعاء كميل
DESCRIPTION:
URL:https://alhudamuslimsociety.com/event/duaa-kumail-%d8%af%d8%b9%d8%a7%d8%a1-%d9%83%d9%85%d9%8a%d9%84-5/
CATEGORIES:General,Mosque Programs
END:VEVENT
BEGIN:VEVENT
DTSTART;TZID=America/Toronto:20220625T213000
DTEND;TZID=America/Toronto:20220625T213000
DTSTAMP:20260421T190936
CREATED:20220623T035452Z
LAST-MODIFIED:20220623T035452Z
UID:1521-1656192600-1656192600@alhudamuslimsociety.com
SUMMARY:Saturday Program
DESCRIPTION:
URL:https://alhudamuslimsociety.com/event/saturday-program/
CATEGORIES:General,Mosque Programs
END:VEVENT
BEGIN:VEVENT
DTSTART;TZID=America/Toronto:20220624T133000
DTEND;TZID=America/Toronto:20220624T133000
DTSTAMP:20260421T190936
CREATED:20220623T035427Z
LAST-MODIFIED:20220623T035427Z
UID:1519-1656077400-1656077400@alhudamuslimsociety.com
SUMMARY:Friday Prayers
DESCRIPTION:
URL:https://alhudamuslimsociety.com/event/friday-prayers-19/
CATEGORIES:General,Mosque Programs
END:VEVENT
BEGIN:VEVENT
DTSTART;TZID=America/Toronto:20220623T212000
DTEND;TZID=America/Toronto:20220623T212000
DTSTAMP:20260421T190936
CREATED:20220623T035407Z
LAST-MODIFIED:20220623T035407Z
UID:1517-1656019200-1656019200@alhudamuslimsociety.com
SUMMARY:Duaa Kumail & Majlis Azaa
DESCRIPTION:
URL:https://alhudamuslimsociety.com/event/duaa-kumail-majlis-azaa/
CATEGORIES:General,Mosque Programs
END:VEVENT
BEGIN:VEVENT
DTSTART;TZID=America/Toronto:20220619T120000
DTEND;TZID=America/Toronto:20220619T120000
DTSTAMP:20260421T190936
CREATED:20220617T184453Z
LAST-MODIFIED:20220617T184453Z
UID:1511-1655640000-1655640000@alhudamuslimsociety.com
SUMMARY:Annual Picnic
DESCRIPTION:
URL:https://alhudamuslimsociety.com/event/annual-picnic/
CATEGORIES:General,Mosque Programs
END:VEVENT
BEGIN:VEVENT
DTSTART;TZID=America/Toronto:20220611T180000
DTEND;TZID=America/Toronto:20220611T180000
DTSTAMP:20260421T190936
CREATED:20220609T164152Z
LAST-MODIFIED:20220609T164152Z
UID:1497-1654970400-1654970400@alhudamuslimsociety.com
SUMMARY:Annual Hijab Ceremony
DESCRIPTION:
URL:https://alhudamuslimsociety.com/event/annual-hijab-ceremony/
CATEGORIES:General
END:VEVENT
BEGIN:VEVENT
DTSTART;TZID=America/Toronto:20220610T130000
DTEND;TZID=America/Toronto:20220610T130000
DTSTAMP:20260421T190936
CREATED:20220609T164210Z
LAST-MODIFIED:20220609T164210Z
UID:1499-1654866000-1654866000@alhudamuslimsociety.com
SUMMARY:Friday Prayers
DESCRIPTION:
URL:https://alhudamuslimsociety.com/event/friday-prayers-18/
CATEGORIES:General,Mosque Programs
END:VEVENT
BEGIN:VEVENT
DTSTART;TZID=America/Toronto:20220609T210000
DTEND;TZID=America/Toronto:20220609T210000
DTSTAMP:20260421T190936
CREATED:20220609T164123Z
LAST-MODIFIED:20220609T164123Z
UID:1495-1654808400-1654808400@alhudamuslimsociety.com
SUMMARY:Duaa Kumail دعاء كميل
DESCRIPTION:
URL:https://alhudamuslimsociety.com/event/duaa-kumail-%d8%af%d8%b9%d8%a7%d8%a1-%d9%83%d9%85%d9%8a%d9%84-4/
CATEGORIES:General,Mosque Programs
END:VEVENT
BEGIN:VEVENT
DTSTART;TZID=America/Toronto:20220603T130000
DTEND;TZID=America/Toronto:20220603T130000
DTSTAMP:20260421T190936
CREATED:20220528T031515Z
LAST-MODIFIED:20220528T031515Z
UID:1489-1654261200-1654261200@alhudamuslimsociety.com
SUMMARY:Friday Prayers
DESCRIPTION:
URL:https://alhudamuslimsociety.com/event/friday-prayers-17/
CATEGORIES:General,Mosque Programs
END:VEVENT
BEGIN:VEVENT
DTSTART;TZID=America/Toronto:20220602T210000
DTEND;TZID=America/Toronto:20220602T210000
DTSTAMP:20260421T190936
CREATED:20220528T031535Z
LAST-MODIFIED:20220528T031535Z
UID:1491-1654203600-1654203600@alhudamuslimsociety.com
SUMMARY:Duaa Kumail دعاء كميل
DESCRIPTION:
URL:https://alhudamuslimsociety.com/event/duaa-kumail-%d8%af%d8%b9%d8%a7%d8%a1-%d9%83%d9%85%d9%8a%d9%84-3/
CATEGORIES:General,Mosque Programs
END:VEVENT
BEGIN:VEVENT
DTSTART;TZID=America/Toronto:20220529T190000
DTEND;TZID=America/Toronto:20220529T190000
DTSTAMP:20260421T190936
CREATED:20220528T031444Z
LAST-MODIFIED:20220528T031457Z
UID:1486-1653850800-1653850800@alhudamuslimsociety.com
SUMMARY:برنامج خاص بالأخوات
DESCRIPTION:
URL:https://alhudamuslimsociety.com/event/%d8%a8%d8%b1%d9%86%d8%a7%d9%85%d8%ac-%d8%ae%d8%a7%d8%b5%d8%a9-%d8%a8%d8%a7%d9%84%d8%a3%d8%ae%d9%88%d8%a7%d8%aa/
CATEGORIES:General,Mosque Programs
END:VEVENT
BEGIN:VEVENT
DTSTART;TZID=America/Toronto:20220528T210000
DTEND;TZID=America/Toronto:20220528T210000
DTSTAMP:20260421T190936
CREATED:20220528T031411Z
LAST-MODIFIED:20220528T031411Z
UID:1484-1653771600-1653771600@alhudamuslimsociety.com
SUMMARY:الجلسة الأسبوعية
DESCRIPTION:
URL:https://alhudamuslimsociety.com/event/%d8%a7%d9%84%d8%ac%d9%84%d8%b3%d8%a9-%d8%a7%d9%84%d8%a3%d8%b3%d8%a8%d9%88%d8%b9%d9%8a%d8%a9-2/
CATEGORIES:General,Mosque Programs
END:VEVENT
BEGIN:VEVENT
DTSTART;TZID=America/Toronto:20220520T130000
DTEND;TZID=America/Toronto:20220520T130000
DTSTAMP:20260421T190936
CREATED:20220514T041023Z
LAST-MODIFIED:20220514T041027Z
UID:1472-1653051600-1653051600@alhudamuslimsociety.com
SUMMARY:Friday Prayers
DESCRIPTION:
URL:https://alhudamuslimsociety.com/event/friday-prayers-16/
CATEGORIES:General,Mosque Programs
END:VEVENT
BEGIN:VEVENT
DTSTART;TZID=America/Toronto:20220519T203000
DTEND;TZID=America/Toronto:20220519T203000
DTSTAMP:20260421T190936
CREATED:20220514T041000Z
LAST-MODIFIED:20220514T041000Z
UID:1470-1652992200-1652992200@alhudamuslimsociety.com
SUMMARY:Duaa Kumail دعاء كميل
DESCRIPTION:
URL:https://alhudamuslimsociety.com/event/duaa-kumail-%d8%af%d8%b9%d8%a7%d8%a1-%d9%83%d9%85%d9%8a%d9%84-2/
CATEGORIES:General,Mosque Programs
END:VEVENT
BEGIN:VEVENT
DTSTART;TZID=America/Toronto:20220514T203000
DTEND;TZID=America/Toronto:20220514T203000
DTSTAMP:20260421T190936
CREATED:20220514T040934Z
LAST-MODIFIED:20220514T040934Z
UID:1468-1652560200-1652560200@alhudamuslimsociety.com
SUMMARY:الجلسة الأسبوعية Saturday Program
DESCRIPTION:
URL:https://alhudamuslimsociety.com/event/%d8%a7%d9%84%d8%ac%d9%84%d8%b3%d8%a9-%d8%a7%d9%84%d8%a3%d8%b3%d8%a8%d9%88%d8%b9%d9%8a%d8%a9-saturday-program/
CATEGORIES:General,Mosque Programs
END:VEVENT
BEGIN:VEVENT
DTSTART;TZID=America/Toronto:20220501T190000
DTEND;TZID=America/Toronto:20220501T190000
DTSTAMP:20260421T190936
CREATED:20220427T061437Z
LAST-MODIFIED:20220427T061437Z
UID:1443-1651431600-1651431600@alhudamuslimsociety.com
SUMMARY:قراءة الجزء الثلاثون  من القرآن الكريم
DESCRIPTION:
URL:https://alhudamuslimsociety.com/event/%d9%82%d8%b1%d8%a7%d8%a1%d8%a9-%d8%a7%d9%84%d8%ac%d8%b2%d8%a1-%d8%a7%d9%84%d8%ab%d9%84%d8%a7%d8%ab%d9%88%d9%86-%d9%85%d9%86-%d8%a7%d9%84%d9%82%d8%b1%d8%a2%d9%86-%d8%a7%d9%84%d9%83%d8%b1%d9%8a%d9%85/
CATEGORIES:General,Mosque Programs
END:VEVENT
BEGIN:VEVENT
DTSTART;TZID=America/Toronto:20220430T203000
DTEND;TZID=America/Toronto:20220430T203000
DTSTAMP:20260421T190936
CREATED:20220427T061544Z
LAST-MODIFIED:20220427T061544Z
UID:1451-1651350600-1651350600@alhudamuslimsociety.com
SUMMARY:افطار عام + دعاء الافتتاح + موعظة
DESCRIPTION:
URL:https://alhudamuslimsociety.com/event/%d8%a7%d9%81%d8%b7%d8%a7%d8%b1-%d8%b9%d8%a7%d9%85-%d8%af%d8%b9%d8%a7%d8%a1-%d8%a7%d9%84%d8%a7%d9%81%d8%aa%d8%aa%d8%a7%d8%ad-%d9%85%d9%88%d8%b9%d8%b8%d8%a9-2/
CATEGORIES:General,Mosque Programs
END:VEVENT
BEGIN:VEVENT
DTSTART;TZID=America/Toronto:20220430T190000
DTEND;TZID=America/Toronto:20220430T190000
DTSTAMP:20260421T190936
CREATED:20220427T061352Z
LAST-MODIFIED:20220427T061352Z
UID:1439-1651345200-1651345200@alhudamuslimsociety.com
SUMMARY:قراءة الجزء الثامن والعشرون والتاسع والعشرون  من القرآن الكريم
DESCRIPTION:
URL:https://alhudamuslimsociety.com/event/%d9%82%d8%b1%d8%a7%d8%a1%d8%a9-%d8%a7%d9%84%d8%ac%d8%b2%d8%a1-%d8%a7%d9%84%d8%ab%d8%a7%d9%85%d9%86-%d9%88%d8%a7%d9%84%d8%b9%d8%b4%d8%b1%d9%88%d9%86-%d9%88%d8%a7%d9%84%d8%aa%d8%a7%d8%b3%d8%b9-%d9%88/
CATEGORIES:General,Mosque Programs
END:VEVENT
BEGIN:VEVENT
DTSTART;TZID=America/Toronto:20220429T190000
DTEND;TZID=America/Toronto:20220429T190000
DTSTAMP:20260421T190936
CREATED:20220427T061321Z
LAST-MODIFIED:20220427T061321Z
UID:1438-1651258800-1651258800@alhudamuslimsociety.com
SUMMARY:قراءة الجزء السابع والعشرون من القرآن الكريم
DESCRIPTION:
URL:https://alhudamuslimsociety.com/event/%d9%82%d8%b1%d8%a7%d8%a1%d8%a9-%d8%a7%d9%84%d8%ac%d8%b2%d8%a1-%d8%a7%d9%84%d8%b3%d8%a7%d8%a8%d8%b9-%d9%88%d8%a7%d9%84%d8%b9%d8%b4%d8%b1%d9%88%d9%86-%d9%85%d9%86-%d8%a7%d9%84%d9%82%d8%b1%d8%a2%d9%86/
CATEGORIES:General,Mosque Programs
END:VEVENT
BEGIN:VEVENT
DTSTART;TZID=America/Toronto:20220428T213000
DTEND;TZID=America/Toronto:20220428T213000
DTSTAMP:20260421T190936
CREATED:20220427T061605Z
LAST-MODIFIED:20220427T061605Z
UID:1450-1651181400-1651181400@alhudamuslimsociety.com
SUMMARY:دعاء كميل + موعظة
DESCRIPTION:
URL:https://alhudamuslimsociety.com/event/%d8%af%d8%b9%d8%a7%d8%a1-%d9%83%d9%85%d9%8a%d9%84-%d9%85%d9%88%d8%b9%d8%b8%d8%a9/
CATEGORIES:General,Mosque Programs
END:VEVENT
BEGIN:VEVENT
DTSTART;TZID=America/Toronto:20220428T190000
DTEND;TZID=America/Toronto:20220428T190000
DTSTAMP:20260421T190936
CREATED:20220427T061249Z
LAST-MODIFIED:20220427T061249Z
UID:1437-1651172400-1651172400@alhudamuslimsociety.com
SUMMARY:قراءة الجزء السادس والعشرون من القرآن الكريم
DESCRIPTION:
URL:https://alhudamuslimsociety.com/event/%d9%82%d8%b1%d8%a7%d8%a1%d8%a9-%d8%a7%d9%84%d8%ac%d8%b2%d8%a1-%d8%a7%d9%84%d8%b3%d8%a7%d8%af%d8%b3-%d9%88%d8%a7%d9%84%d8%b9%d8%b4%d8%b1%d9%88%d9%86-%d9%85%d9%86-%d8%a7%d9%84%d9%82%d8%b1%d8%a2%d9%86/
CATEGORIES:General,Mosque Programs
END:VEVENT
END:VCALENDAR