BEGIN:VCALENDAR
VERSION:2.0
PRODID:-//Al-Huda Muslim Society - ECPv6.15.12.2//NONSGML v1.0//EN
CALSCALE:GREGORIAN
METHOD:PUBLISH
X-WR-CALNAME:Al-Huda Muslim Society
X-ORIGINAL-URL:https://alhudamuslimsociety.com
X-WR-CALDESC:Events for Al-Huda Muslim Society
REFRESH-INTERVAL;VALUE=DURATION:PT1H
X-Robots-Tag:noindex
X-PUBLISHED-TTL:PT1H
BEGIN:VTIMEZONE
TZID:America/Toronto
BEGIN:DAYLIGHT
TZOFFSETFROM:-0500
TZOFFSETTO:-0400
TZNAME:EDT
DTSTART:20210314T070000
END:DAYLIGHT
BEGIN:STANDARD
TZOFFSETFROM:-0400
TZOFFSETTO:-0500
TZNAME:EST
DTSTART:20211107T060000
END:STANDARD
BEGIN:DAYLIGHT
TZOFFSETFROM:-0500
TZOFFSETTO:-0400
TZNAME:EDT
DTSTART:20220313T070000
END:DAYLIGHT
BEGIN:STANDARD
TZOFFSETFROM:-0400
TZOFFSETTO:-0500
TZNAME:EST
DTSTART:20221106T060000
END:STANDARD
BEGIN:DAYLIGHT
TZOFFSETFROM:-0500
TZOFFSETTO:-0400
TZNAME:EDT
DTSTART:20230312T070000
END:DAYLIGHT
BEGIN:STANDARD
TZOFFSETFROM:-0400
TZOFFSETTO:-0500
TZNAME:EST
DTSTART:20231105T060000
END:STANDARD
BEGIN:DAYLIGHT
TZOFFSETFROM:-0500
TZOFFSETTO:-0400
TZNAME:EDT
DTSTART:20240310T070000
END:DAYLIGHT
BEGIN:STANDARD
TZOFFSETFROM:-0400
TZOFFSETTO:-0500
TZNAME:EST
DTSTART:20241103T060000
END:STANDARD
END:VTIMEZONE
BEGIN:VEVENT
DTSTART;TZID=America/Toronto:20230408T200000
DTEND;TZID=America/Toronto:20230408T200000
DTSTAMP:20260421T133441
CREATED:20230322T070736Z
LAST-MODIFIED:20230323T100446Z
UID:1946-1680984000-1680984000@alhudamuslimsociety.com
SUMMARY:افطار عام + دعاء الافتتاح + محاضرة
DESCRIPTION:
URL:https://alhudamuslimsociety.com/event/%d8%a7%d9%81%d8%b7%d8%a7%d8%b1-%d8%b9%d8%a7%d9%85-%d8%af%d8%b9%d8%a7%d8%a1-%d8%a7%d9%84%d8%a7%d9%81%d8%aa%d8%aa%d8%a7%d8%ad-%d9%85%d8%ad%d8%a7%d8%b6%d8%b1%d8%a9-2/2023-04-08/
CATEGORIES:General
END:VEVENT
BEGIN:VEVENT
DTSTART;TZID=America/Toronto:20230326T211500
DTEND;TZID=America/Toronto:20230326T211500
DTSTAMP:20260421T133441
CREATED:20230322T070046Z
LAST-MODIFIED:20230328T111055Z
UID:1914-1679865300-1679865300@alhudamuslimsociety.com
SUMMARY:دعاء الافتتاح + محاضرة عبر البث المباشر
DESCRIPTION:
URL:https://alhudamuslimsociety.com/event/%d8%af%d8%b9%d8%a7%d8%a1-%d8%a7%d9%84%d8%a7%d9%81%d8%aa%d8%aa%d8%a7%d8%ad-%d9%85%d8%ad%d8%a7%d8%b6%d8%b1%d8%a9-%d8%b9%d8%a8%d8%b1-%d8%a7%d9%84%d8%a8%d8%ab-%d8%a7%d9%84%d9%85%d8%a8%d8%a7%d8%b4%d8%b1/2023-03-26/
CATEGORIES:General,Mosque Programs
END:VEVENT
BEGIN:VEVENT
DTSTART;TZID=America/Toronto:20230325T194000
DTEND;TZID=America/Toronto:20230422T000000
DTSTAMP:20260421T133441
CREATED:20230322T070247Z
LAST-MODIFIED:20230322T070607Z
UID:1918-1679773200-1682121600@alhudamuslimsociety.com
SUMMARY:افطار عام + دعاء الافتتاح + محاضرة
DESCRIPTION:
URL:https://alhudamuslimsociety.com/event/%d8%a7%d9%81%d8%b7%d8%a7%d8%b1-%d8%b9%d8%a7%d9%85-%d8%af%d8%b9%d8%a7%d8%a1-%d8%a7%d9%84%d8%a7%d9%81%d8%aa%d8%aa%d8%a7%d8%ad-%d9%85%d8%ad%d8%a7%d8%b6%d8%b1%d8%a9/2023-03-25/
CATEGORIES:General
END:VEVENT
BEGIN:VEVENT
DTSTART;TZID=America/Toronto:20230324T211500
DTEND;TZID=America/Toronto:20230324T211500
DTSTAMP:20260421T133441
CREATED:20230322T070159Z
LAST-MODIFIED:20230323T100533Z
UID:1916-1679692500-1679692500@alhudamuslimsociety.com
SUMMARY:دعاء الافتتاح + محاضرة
DESCRIPTION:
URL:https://alhudamuslimsociety.com/event/%d8%af%d8%b9%d8%a7%d8%a1-%d8%a7%d9%84%d8%a7%d9%81%d8%aa%d8%aa%d8%a7%d8%ad-%d9%85%d8%ad%d8%a7%d8%b6%d8%b1%d8%a9/2023-03-24/
CATEGORIES:General,Mosque Programs
END:VEVENT
BEGIN:VEVENT
DTSTART;TZID=America/Toronto:20230323T211500
DTEND;TZID=America/Toronto:20230323T211500
DTSTAMP:20260421T133441
CREATED:20230323T100353Z
LAST-MODIFIED:20230323T100353Z
UID:1954-1679606100-1679606100@alhudamuslimsociety.com
SUMMARY:دعاء كميل + محاضرة
DESCRIPTION:
URL:https://alhudamuslimsociety.com/event/%d8%af%d8%b9%d8%a7%d8%a1-%d9%83%d9%85%d9%8a%d9%84-%d9%85%d8%ad%d8%a7%d8%b6%d8%b1%d8%a9/2023-03-23/
CATEGORIES:General,Mosque Programs
END:VEVENT
BEGIN:VEVENT
DTSTART;TZID=America/Toronto:20230323T190000
DTEND;TZID=America/Toronto:20230323T193000
DTSTAMP:20260421T133441
CREATED:20230322T065840Z
LAST-MODIFIED:20230322T070507Z
UID:1883-1679598000-1679599800@alhudamuslimsociety.com
SUMMARY:تلاوة جزء من القران الكريم
DESCRIPTION:
URL:https://alhudamuslimsociety.com/event/%d8%aa%d9%84%d8%a7%d9%88%d8%a9-%d8%ac%d8%b2%d8%a1-%d9%85%d9%86-%d8%a7%d9%84%d9%82%d8%b1%d8%a7%d9%86-%d8%a7%d9%84%d9%83%d8%b1%d9%8a%d9%85/2023-03-23/
CATEGORIES:General
END:VEVENT
BEGIN:VEVENT
DTSTART;TZID=America/Toronto:20230113T123000
DTEND;TZID=America/Toronto:20230113T123000
DTSTAMP:20260421T133441
CREATED:20230106T203849Z
LAST-MODIFIED:20230106T203849Z
UID:1771-1673613000-1673613000@alhudamuslimsociety.com
SUMMARY:صلاة الجمعة Friday Prayer
DESCRIPTION:
URL:https://alhudamuslimsociety.com/event/%d8%b5%d9%84%d8%a7%d8%a9-%d8%a7%d9%84%d8%ac%d9%85%d8%b9%d8%a9-friday-prayer/2023-01-13/
CATEGORIES:General,Mosque Programs
END:VEVENT
BEGIN:VEVENT
DTSTART;TZID=America/Toronto:20230112T193000
DTEND;TZID=America/Toronto:20230112T193000
DTSTAMP:20260421T133441
CREATED:20230106T203743Z
LAST-MODIFIED:20230106T203758Z
UID:1750-1673551800-1673551800@alhudamuslimsociety.com
SUMMARY:دعاء كميل
DESCRIPTION:
URL:https://alhudamuslimsociety.com/event/%d8%af%d8%b9%d8%a7%d8%a1-%d9%83%d9%85%d9%8a%d9%84-11/2023-01-12/
CATEGORIES:General,Mosque Programs
END:VEVENT
BEGIN:VEVENT
DTSTART;TZID=America/Toronto:20230107T193000
DTEND;TZID=America/Toronto:20230107T193000
DTSTAMP:20260421T133441
CREATED:20230106T203943Z
LAST-MODIFIED:20230106T203943Z
UID:1782-1673119800-1673119800@alhudamuslimsociety.com
SUMMARY:Weekly Gathering  الجلسة الأسبوعية
DESCRIPTION:
URL:https://alhudamuslimsociety.com/event/weekly-gathering-%d8%a7%d9%84%d8%ac%d9%84%d8%b3%d8%a9-%d8%a7%d9%84%d8%a3%d8%b3%d8%a8%d9%88%d8%b9%d9%8a%d8%a9/2023-01-07/
CATEGORIES:General,Mosque Programs
END:VEVENT
BEGIN:VEVENT
DTSTART;TZID=America/Toronto:20221118T120000
DTEND;TZID=America/Toronto:20221118T130000
DTSTAMP:20260421T133441
CREATED:20221101T004659Z
LAST-MODIFIED:20221101T004815Z
UID:1666-1668772800-1668776400@alhudamuslimsociety.com
SUMMARY:Friday Prayer
DESCRIPTION:
URL:https://alhudamuslimsociety.com/event/friday-prayer-5/
CATEGORIES:General,Mosque Programs
END:VEVENT
BEGIN:VEVENT
DTSTART;TZID=America/Toronto:20221117T193000
DTEND;TZID=America/Toronto:20221117T203000
DTSTAMP:20260421T133441
CREATED:20221101T005000Z
LAST-MODIFIED:20221101T005410Z
UID:1671-1668713400-1668717000@alhudamuslimsociety.com
SUMMARY:دعاء كميل
DESCRIPTION:
URL:https://alhudamuslimsociety.com/event/%d8%af%d8%b9%d8%a7%d8%a1-%d9%83%d9%85%d9%8a%d9%84-9/2022-11-17/
CATEGORIES:General,Mosque Programs
END:VEVENT
BEGIN:VEVENT
DTSTART;TZID=America/Toronto:20221110T193000
DTEND;TZID=America/Toronto:20221110T203000
DTSTAMP:20260421T133441
CREATED:20221101T004914Z
LAST-MODIFIED:20221101T004927Z
UID:1668-1668108600-1668112200@alhudamuslimsociety.com
SUMMARY:دعاء كميل
DESCRIPTION:
URL:https://alhudamuslimsociety.com/event/%d8%af%d8%b9%d8%a7%d8%a1-%d9%83%d9%85%d9%8a%d9%84-8/
CATEGORIES:General,Mosque Programs
END:VEVENT
BEGIN:VEVENT
DTSTART;TZID=America/Toronto:20221105T193000
DTEND;TZID=America/Toronto:20221105T193000
DTSTAMP:20260421T133441
CREATED:20221101T005304Z
LAST-MODIFIED:20221101T005316Z
UID:1685-1667676600-1667676600@alhudamuslimsociety.com
SUMMARY:الجلسة الأسبوعية Weeky Gathering
DESCRIPTION:
URL:https://alhudamuslimsociety.com/event/%d8%a7%d9%84%d8%ac%d9%84%d8%b3%d8%a9-%d8%a7%d9%84%d8%a3%d8%b3%d8%a8%d9%88%d8%b9%d9%8a%d8%a9-weeky-gathering/2022-11-05/
CATEGORIES:General,Mosque Programs
END:VEVENT
BEGIN:VEVENT
DTSTART;TZID=America/Toronto:20221103T193000
DTEND;TZID=America/Toronto:20221103T203000
DTSTAMP:20260421T133441
CREATED:20221101T005035Z
LAST-MODIFIED:20221101T005035Z
UID:1670-1667503800-1667507400@alhudamuslimsociety.com
SUMMARY:دعاء كميل
DESCRIPTION:
URL:https://alhudamuslimsociety.com/event/%d8%af%d8%b9%d8%a7%d8%a1-%d9%83%d9%85%d9%8a%d9%84-10/
CATEGORIES:General,Mosque Programs
END:VEVENT
BEGIN:VEVENT
DTSTART;TZID=America/Toronto:20221031T183000
DTEND;TZID=America/Toronto:20221031T193000
DTSTAMP:20260421T133441
CREATED:20221101T005144Z
LAST-MODIFIED:20221101T005144Z
UID:1674-1667241000-1667244600@alhudamuslimsociety.com
SUMMARY:دورة القرآن الكريم
DESCRIPTION:
URL:https://alhudamuslimsociety.com/event/%d8%af%d9%88%d8%b1%d8%a9-%d8%a7%d9%84%d9%82%d8%b1%d8%a2%d9%86-%d8%a7%d9%84%d9%83%d8%b1%d9%8a%d9%85/2022-10-31/
CATEGORIES:General,Mosque Programs
END:VEVENT
BEGIN:VEVENT
DTSTART;TZID=America/Toronto:20221022T193000
DTEND;TZID=America/Toronto:20221022T193000
DTSTAMP:20260421T133441
CREATED:20221021T203934Z
LAST-MODIFIED:20221021T203934Z
UID:1651-1666467000-1666467000@alhudamuslimsociety.com
SUMMARY:الجلسة الأسبوعية
DESCRIPTION:
URL:https://alhudamuslimsociety.com/event/%d8%a7%d9%84%d8%ac%d9%84%d8%b3%d8%a9-%d8%a7%d9%84%d8%a3%d8%b3%d8%a8%d9%88%d8%b9%d9%8a%d8%a9-6/
CATEGORIES:General
END:VEVENT
BEGIN:VEVENT
DTSTART;TZID=America/Toronto:20220923T130000
DTEND;TZID=America/Toronto:20220923T140000
DTSTAMP:20260421T133441
CREATED:20220908T203630Z
LAST-MODIFIED:20220908T203630Z
UID:1624-1663938000-1663941600@alhudamuslimsociety.com
SUMMARY:Friday Prayer
DESCRIPTION:
URL:https://alhudamuslimsociety.com/event/friday-prayer-4/
CATEGORIES:General,Mosque Programs
END:VEVENT
BEGIN:VEVENT
DTSTART;TZID=America/Toronto:20220917T163000
DTEND;TZID=America/Toronto:20220917T220000
DTSTAMP:20260421T133441
CREATED:20220916T225713Z
LAST-MODIFIED:20220916T225713Z
UID:1633-1663432200-1663452000@alhudamuslimsociety.com
SUMMARY:برنامج الأربعين
DESCRIPTION:
URL:https://alhudamuslimsociety.com/event/%d8%a8%d8%b1%d9%86%d8%a7%d9%85%d8%ac-%d8%a7%d9%84%d8%a3%d8%b1%d8%a8%d8%b9%d9%8a%d9%86/
CATEGORIES:General,Mosque Programs,Youth
END:VEVENT
BEGIN:VEVENT
DTSTART;TZID=America/Toronto:20220916T130000
DTEND;TZID=America/Toronto:20220916T140000
DTSTAMP:20260421T133441
CREATED:20220908T203546Z
LAST-MODIFIED:20220908T203608Z
UID:1622-1663333200-1663336800@alhudamuslimsociety.com
SUMMARY:Friday Prayer
DESCRIPTION:
URL:https://alhudamuslimsociety.com/event/friday-prayer-3/
CATEGORIES:General,Mosque Programs
END:VEVENT
BEGIN:VEVENT
DTSTART;TZID=America/Toronto:20220910T200000
DTEND;TZID=America/Toronto:20220910T200000
DTSTAMP:20260421T133441
CREATED:20220908T203716Z
LAST-MODIFIED:20220908T203716Z
UID:1626-1662840000-1662840000@alhudamuslimsociety.com
SUMMARY:الجلسة الأسبوعية
DESCRIPTION:
URL:https://alhudamuslimsociety.com/event/%d8%a7%d9%84%d8%ac%d9%84%d8%b3%d8%a9-%d8%a7%d9%84%d8%a3%d8%b3%d8%a8%d9%88%d8%b9%d9%8a%d8%a9-5/
CATEGORIES:General
END:VEVENT
BEGIN:VEVENT
DTSTART;TZID=America/Toronto:20220909T133000
DTEND;TZID=America/Toronto:20220909T133000
DTSTAMP:20260421T133441
CREATED:20220908T203523Z
LAST-MODIFIED:20220908T203523Z
UID:1620-1662730200-1662730200@alhudamuslimsociety.com
SUMMARY:Friday Prayer
DESCRIPTION:
URL:https://alhudamuslimsociety.com/event/friday-prayer-2/
CATEGORIES:General,Mosque Programs
END:VEVENT
BEGIN:VEVENT
DTSTART;TZID=America/Toronto:20220908T200000
DTEND;TZID=America/Toronto:20220908T200000
DTSTAMP:20260421T133441
CREATED:20220903T065703Z
LAST-MODIFIED:20220903T065703Z
UID:1617-1662667200-1662667200@alhudamuslimsociety.com
SUMMARY:دعاء كميل
DESCRIPTION:
URL:https://alhudamuslimsociety.com/event/%d8%af%d8%b9%d8%a7%d8%a1-%d9%83%d9%85%d9%8a%d9%84-7/
CATEGORIES:General,Mosque Programs
END:VEVENT
BEGIN:VEVENT
DTSTART;TZID=America/Toronto:20220903T200000
DTEND;TZID=America/Toronto:20220903T200000
DTSTAMP:20260421T133441
CREATED:20220903T065634Z
LAST-MODIFIED:20220903T065634Z
UID:1615-1662235200-1662235200@alhudamuslimsociety.com
SUMMARY:الجلسة الأسبوعية
DESCRIPTION:محاضرة ومجلس عزاء لسماحة الشيخ علي صالح
URL:https://alhudamuslimsociety.com/event/%d8%a7%d9%84%d8%ac%d9%84%d8%b3%d8%a9-%d8%a7%d9%84%d8%a3%d8%b3%d8%a8%d9%88%d8%b9%d9%8a%d8%a9-4/
CATEGORIES:General
END:VEVENT
BEGIN:VEVENT
DTSTART;TZID=America/Toronto:20220827T203000
DTEND;TZID=America/Toronto:20220827T203000
DTSTAMP:20260421T133441
CREATED:20220825T200800Z
LAST-MODIFIED:20220825T200814Z
UID:1609-1661632200-1661632200@alhudamuslimsociety.com
SUMMARY:Saturday's Program
DESCRIPTION:
URL:https://alhudamuslimsociety.com/event/saturdays-prayer/
CATEGORIES:General,Mosque Programs
END:VEVENT
BEGIN:VEVENT
DTSTART;TZID=America/Toronto:20220826T133000
DTEND;TZID=America/Toronto:20220826T133000
DTSTAMP:20260421T133441
CREATED:20220825T200738Z
LAST-MODIFIED:20220825T200738Z
UID:1607-1661520600-1661520600@alhudamuslimsociety.com
SUMMARY:Friday Prayer
DESCRIPTION:
URL:https://alhudamuslimsociety.com/event/friday-prayer/
CATEGORIES:General,Mosque Programs
END:VEVENT
BEGIN:VEVENT
DTSTART;TZID=America/Toronto:20220825T203000
DTEND;TZID=America/Toronto:20220825T203000
DTSTAMP:20260421T133441
CREATED:20220825T200708Z
LAST-MODIFIED:20220825T200708Z
UID:1605-1661459400-1661459400@alhudamuslimsociety.com
SUMMARY:Duaa Kumail
DESCRIPTION:
URL:https://alhudamuslimsociety.com/event/duaa-kumail-14/
CATEGORIES:General,Mosque Programs
END:VEVENT
BEGIN:VEVENT
DTSTART;TZID=America/Toronto:20220813T210000
DTEND;TZID=America/Toronto:20220813T210000
DTSTAMP:20260421T133441
CREATED:20220810T203927Z
LAST-MODIFIED:20220810T203927Z
UID:1595-1660424400-1660424400@alhudamuslimsociety.com
SUMMARY:الجلسة الأسبوعية
DESCRIPTION:
URL:https://alhudamuslimsociety.com/event/%d8%a7%d9%84%d8%ac%d9%84%d8%b3%d8%a9-%d8%a7%d9%84%d8%a3%d8%b3%d8%a8%d9%88%d8%b9%d9%8a%d8%a9-3/
CATEGORIES:General,Mosque Programs
END:VEVENT
BEGIN:VEVENT
DTSTART;TZID=America/Toronto:20220812T130000
DTEND;TZID=America/Toronto:20220812T140000
DTSTAMP:20260421T133441
CREATED:20220810T203904Z
LAST-MODIFIED:20220810T203904Z
UID:1593-1660309200-1660312800@alhudamuslimsociety.com
SUMMARY:صلاة الجمعة
DESCRIPTION:
URL:https://alhudamuslimsociety.com/event/%d8%b5%d9%84%d8%a7%d8%a9-%d8%a7%d9%84%d8%ac%d9%85%d8%b9%d8%a9-4/
CATEGORIES:General,Mosque Programs
END:VEVENT
BEGIN:VEVENT
DTSTART;TZID=America/Toronto:20220811T210000
DTEND;TZID=America/Toronto:20220811T210000
DTSTAMP:20260421T133441
CREATED:20220810T203834Z
LAST-MODIFIED:20220810T203834Z
UID:1591-1660251600-1660251600@alhudamuslimsociety.com
SUMMARY:دعاء كميل
DESCRIPTION:
URL:https://alhudamuslimsociety.com/event/%d8%af%d8%b9%d8%a7%d8%a1-%d9%83%d9%85%d9%8a%d9%84-6/
CATEGORIES:General
END:VEVENT
BEGIN:VEVENT
DTSTART;TZID=America/Toronto:20220808T213000
DTEND;TZID=America/Toronto:20220808T213000
DTSTAMP:20260421T133441
CREATED:20220807T171546Z
LAST-MODIFIED:20220807T171546Z
UID:1585-1659994200-1659994200@alhudamuslimsociety.com
SUMMARY:إحياء الليلة الحادية عشر من المحرم
DESCRIPTION:
URL:https://alhudamuslimsociety.com/event/%d8%a5%d8%ad%d9%8a%d8%a7%d8%a1-%d8%a7%d9%84%d9%84%d9%8a%d9%84%d8%a9-%d8%a7%d9%84%d8%ad%d8%a7%d8%af%d9%8a%d8%a9-%d8%b9%d8%b4%d8%b1-%d9%85%d9%86-%d8%a7%d9%84%d9%85%d8%ad%d8%b1%d9%85/
CATEGORIES:General,Mosque Programs
END:VEVENT
END:VCALENDAR