BEGIN:VCALENDAR
VERSION:2.0
PRODID:-//Al-Huda Muslim Society - ECPv6.15.12.2//NONSGML v1.0//EN
CALSCALE:GREGORIAN
METHOD:PUBLISH
X-WR-CALNAME:Al-Huda Muslim Society
X-ORIGINAL-URL:https://alhudamuslimsociety.com
X-WR-CALDESC:Events for Al-Huda Muslim Society
REFRESH-INTERVAL;VALUE=DURATION:PT1H
X-Robots-Tag:noindex
X-PUBLISHED-TTL:PT1H
BEGIN:VTIMEZONE
TZID:America/Toronto
BEGIN:DAYLIGHT
TZOFFSETFROM:-0500
TZOFFSETTO:-0400
TZNAME:EDT
DTSTART:20200308T070000
END:DAYLIGHT
BEGIN:STANDARD
TZOFFSETFROM:-0400
TZOFFSETTO:-0500
TZNAME:EST
DTSTART:20201101T060000
END:STANDARD
BEGIN:DAYLIGHT
TZOFFSETFROM:-0500
TZOFFSETTO:-0400
TZNAME:EDT
DTSTART:20210314T070000
END:DAYLIGHT
BEGIN:STANDARD
TZOFFSETFROM:-0400
TZOFFSETTO:-0500
TZNAME:EST
DTSTART:20211107T060000
END:STANDARD
BEGIN:DAYLIGHT
TZOFFSETFROM:-0500
TZOFFSETTO:-0400
TZNAME:EDT
DTSTART:20220313T070000
END:DAYLIGHT
BEGIN:STANDARD
TZOFFSETFROM:-0400
TZOFFSETTO:-0500
TZNAME:EST
DTSTART:20221106T060000
END:STANDARD
BEGIN:DAYLIGHT
TZOFFSETFROM:-0500
TZOFFSETTO:-0400
TZNAME:EDT
DTSTART:20230312T070000
END:DAYLIGHT
BEGIN:STANDARD
TZOFFSETFROM:-0400
TZOFFSETTO:-0500
TZNAME:EST
DTSTART:20231105T060000
END:STANDARD
END:VTIMEZONE
BEGIN:VEVENT
DTSTART;TZID=America/Toronto:20220404T213000
DTEND;TZID=America/Toronto:20220404T213000
DTSTAMP:20260422T061000
CREATED:20220329T210908Z
LAST-MODIFIED:20220329T210908Z
UID:1318-1649107800-1649107800@alhudamuslimsociety.com
SUMMARY:دعاء الافتتاح Duaa Al Iftitah
DESCRIPTION:
URL:https://alhudamuslimsociety.com/event/%d8%af%d8%b9%d8%a7%d8%a1-%d8%a7%d9%84%d8%a7%d9%81%d8%aa%d8%aa%d8%a7%d8%ad-duaa-al-iftitah-2/
CATEGORIES:General,Mosque Programs
END:VEVENT
BEGIN:VEVENT
DTSTART;TZID=America/Toronto:20220404T190000
DTEND;TZID=America/Toronto:20220404T190000
DTSTAMP:20260422T061000
CREATED:20220329T210842Z
LAST-MODIFIED:20220329T210842Z
UID:1316-1649098800-1649098800@alhudamuslimsociety.com
SUMMARY:قراءة الجزء الثاني من القرآن الكريم
DESCRIPTION:
URL:https://alhudamuslimsociety.com/event/%d9%82%d8%b1%d8%a7%d8%a1%d8%a9-%d8%a7%d9%84%d8%ac%d8%b2%d8%a1-%d8%a7%d9%84%d8%ab%d8%a7%d9%86%d9%8a-%d9%85%d9%86-%d8%a7%d9%84%d9%82%d8%b1%d8%a2%d9%86-%d8%a7%d9%84%d9%83%d8%b1%d9%8a%d9%85-2/
CATEGORIES:General,Mosque Programs
END:VEVENT
BEGIN:VEVENT
DTSTART;TZID=America/Toronto:20220403T213000
DTEND;TZID=America/Toronto:20220403T213000
DTSTAMP:20260422T061000
CREATED:20220329T210748Z
LAST-MODIFIED:20220329T210748Z
UID:1312-1649021400-1649021400@alhudamuslimsociety.com
SUMMARY:دعاء الافتتاح Duaa Al Iftitah
DESCRIPTION:
URL:https://alhudamuslimsociety.com/event/%d8%af%d8%b9%d8%a7%d8%a1-%d8%a7%d9%84%d8%a7%d9%81%d8%aa%d8%aa%d8%a7%d8%ad-duaa-al-iftitah/
CATEGORIES:General,Mosque Programs
END:VEVENT
BEGIN:VEVENT
DTSTART;TZID=America/Toronto:20220403T200000
DTEND;TZID=America/Toronto:20220403T200000
DTSTAMP:20260422T061000
CREATED:20220329T210717Z
LAST-MODIFIED:20220329T210717Z
UID:1310-1649016000-1649016000@alhudamuslimsociety.com
SUMMARY:Youth Iftar
DESCRIPTION:
URL:https://alhudamuslimsociety.com/event/youth-iftar/
CATEGORIES:General,Youth
END:VEVENT
BEGIN:VEVENT
DTSTART;TZID=America/Toronto:20220403T190000
DTEND;TZID=America/Toronto:20220403T190000
DTSTAMP:20260422T061000
CREATED:20220329T210814Z
LAST-MODIFIED:20220329T210814Z
UID:1314-1649012400-1649012400@alhudamuslimsociety.com
SUMMARY:قراءة الجزء الأول من القرآن الكريم
DESCRIPTION:
URL:https://alhudamuslimsociety.com/event/%d9%82%d8%b1%d8%a7%d8%a1%d8%a9-%d8%a7%d9%84%d8%ac%d8%b2%d8%a1-%d8%a7%d9%84%d8%a3%d9%88%d9%84-%d9%85%d9%86-%d8%a7%d9%84%d9%82%d8%b1%d8%a2%d9%86-%d8%a7%d9%84%d9%83%d8%b1%d9%8a%d9%85/
CATEGORIES:General,Mosque Programs
END:VEVENT
BEGIN:VEVENT
DTSTART;TZID=America/Toronto:20220402T200000
DTEND;TZID=America/Toronto:20220402T200000
DTSTAMP:20260422T061000
CREATED:20220329T210640Z
LAST-MODIFIED:20220329T210640Z
UID:1308-1648929600-1648929600@alhudamuslimsociety.com
SUMMARY:افطار الليلة الأولى- افطار ومحاضرة
DESCRIPTION:
URL:https://alhudamuslimsociety.com/event/%d8%a7%d9%81%d8%b7%d8%a7%d8%b1-%d8%a7%d9%84%d9%84%d9%8a%d9%84%d8%a9-%d8%a7%d9%84%d8%a3%d9%88%d9%84%d9%89-%d8%a7%d9%81%d8%b7%d8%a7%d8%b1-%d9%88%d9%85%d8%ad%d8%a7%d8%b6%d8%b1%d8%a9/
CATEGORIES:General,Mosque Programs
END:VEVENT
BEGIN:VEVENT
DTSTART;TZID=America/Toronto:20220401T133000
DTEND;TZID=America/Toronto:20220401T133000
DTSTAMP:20260422T061000
CREATED:20220329T210947Z
LAST-MODIFIED:20220329T210947Z
UID:1320-1648819800-1648819800@alhudamuslimsociety.com
SUMMARY:Friday Prayers
DESCRIPTION:
URL:https://alhudamuslimsociety.com/event/friday-prayers-14/
CATEGORIES:General,Mosque Programs
END:VEVENT
BEGIN:VEVENT
DTSTART;TZID=America/Toronto:20220331T200000
DTEND;TZID=America/Toronto:20220331T200000
DTSTAMP:20260422T061000
CREATED:20220329T210601Z
LAST-MODIFIED:20220329T211217Z
UID:1306-1648756800-1648756800@alhudamuslimsociety.com
SUMMARY:دعاء كميل
DESCRIPTION:
URL:https://alhudamuslimsociety.com/event/%d8%af%d8%b9%d8%a7%d8%a1-%d9%83%d9%85%d9%8a%d9%84-5/
CATEGORIES:General,Mosque Programs
END:VEVENT
BEGIN:VEVENT
DTSTART;TZID=America/Toronto:20220325T133000
DTEND;TZID=America/Toronto:20220325T143000
DTSTAMP:20260422T061000
CREATED:20220324T082256Z
LAST-MODIFIED:20220324T082256Z
UID:1302-1648215000-1648218600@alhudamuslimsociety.com
SUMMARY:Friday Prayers
DESCRIPTION:
URL:https://alhudamuslimsociety.com/event/friday-prayers-13/
CATEGORIES:General,Mosque Programs
END:VEVENT
BEGIN:VEVENT
DTSTART;TZID=America/Toronto:20220324T200000
DTEND;TZID=America/Toronto:20220324T200000
DTSTAMP:20260422T061000
CREATED:20220324T082240Z
LAST-MODIFIED:20220324T082240Z
UID:1300-1648152000-1648152000@alhudamuslimsociety.com
SUMMARY:دعاء كميل
DESCRIPTION:
URL:https://alhudamuslimsociety.com/event/%d8%af%d8%b9%d8%a7%d8%a1-%d9%83%d9%85%d9%8a%d9%84-4/
CATEGORIES:General,Mosque Programs
END:VEVENT
BEGIN:VEVENT
DTSTART;TZID=America/Toronto:20220320T100000
DTEND;TZID=America/Toronto:20220320T140000
DTSTAMP:20260422T061000
CREATED:20220317T191045Z
LAST-MODIFIED:20220317T191045Z
UID:1288-1647770400-1647784800@alhudamuslimsociety.com
SUMMARY:Community Breakfast
DESCRIPTION:
URL:https://alhudamuslimsociety.com/event/community-breakfast/
END:VEVENT
BEGIN:VEVENT
DTSTART;TZID=America/Toronto:20220319T193000
DTEND;TZID=America/Toronto:20220319T193000
DTSTAMP:20260422T061000
CREATED:20220315T192512Z
LAST-MODIFIED:20220318T090315Z
UID:1282-1647718200-1647718200@alhudamuslimsociety.com
SUMMARY:احتفال ولادة الإمام المهدي (عج)
DESCRIPTION:
URL:https://alhudamuslimsociety.com/event/%d8%a7%d8%ad%d8%aa%d9%81%d8%a7%d9%84-%d9%88%d9%84%d8%a7%d8%af%d8%a9-%d8%a7%d9%84%d8%a5%d9%85%d8%a7%d9%85-%d8%a7%d9%84%d9%85%d9%87%d8%af%d9%8a-%d8%b9%d8%ac/
CATEGORIES:General,Mosque Programs
END:VEVENT
BEGIN:VEVENT
DTSTART;TZID=America/Toronto:20220318T133000
DTEND;TZID=America/Toronto:20220318T143000
DTSTAMP:20260422T061000
CREATED:20220315T192443Z
LAST-MODIFIED:20220315T192443Z
UID:1280-1647610200-1647613800@alhudamuslimsociety.com
SUMMARY:Friday Prayers
DESCRIPTION:
URL:https://alhudamuslimsociety.com/event/friday-prayers-12/
CATEGORIES:General,Mosque Programs
END:VEVENT
BEGIN:VEVENT
DTSTART;TZID=America/Toronto:20220317T203000
DTEND;TZID=America/Toronto:20220317T220000
DTSTAMP:20260422T061000
CREATED:20220315T192419Z
LAST-MODIFIED:20220315T192419Z
UID:1278-1647549000-1647554400@alhudamuslimsociety.com
SUMMARY:احياء ليلة النصف من شعبان
DESCRIPTION:
URL:https://alhudamuslimsociety.com/event/%d8%a7%d8%ad%d9%8a%d8%a7%d8%a1-%d9%84%d9%8a%d9%84%d8%a9-%d8%a7%d9%84%d9%86%d8%b5%d9%81-%d9%85%d9%86-%d8%b4%d8%b9%d8%a8%d8%a7%d9%86/
CATEGORIES:General,Mosque Programs
END:VEVENT
BEGIN:VEVENT
DTSTART;TZID=America/Toronto:20220313T200000
DTEND;TZID=America/Toronto:20220313T220000
DTSTAMP:20260422T061000
CREATED:20220303T062640Z
LAST-MODIFIED:20220303T062705Z
UID:1269-1647201600-1647208800@alhudamuslimsociety.com
SUMMARY:جلسة حوارية للأخوات مع سماحة الشيخ علي عيديبي
DESCRIPTION:
URL:https://alhudamuslimsociety.com/event/%d8%ac%d9%84%d8%b3%d8%a9-%d8%ad%d9%88%d8%a7%d8%b1%d9%8a%d8%a9-%d9%84%d9%84%d8%a3%d8%ae%d9%88%d8%a7%d8%aa-%d9%85%d8%b9-%d8%b3%d9%85%d8%a7%d8%ad%d8%a9-%d8%a7%d9%84%d8%b4%d9%8a%d8%ae-%d8%b9%d9%84%d9%8a/
CATEGORIES:General,Mosque Programs
END:VEVENT
BEGIN:VEVENT
DTSTART;TZID=America/Toronto:20220226T193000
DTEND;TZID=America/Toronto:20220226T210000
DTSTAMP:20260422T061000
CREATED:20220226T065146Z
LAST-MODIFIED:20220226T065146Z
UID:1260-1645903800-1645909200@alhudamuslimsociety.com
SUMMARY:المبعث النبوي وشهادة الإمام الكاظم (ع)
DESCRIPTION:
URL:https://alhudamuslimsociety.com/event/%d8%a7%d9%84%d9%85%d8%a8%d8%b9%d8%ab-%d8%a7%d9%84%d9%86%d8%a8%d9%88%d9%8a-%d9%88%d8%b4%d9%87%d8%a7%d8%af%d8%a9-%d8%a7%d9%84%d8%a5%d9%85%d8%a7%d9%85-%d8%a7%d9%84%d9%83%d8%a7%d8%b8%d9%85-%d8%b9/
CATEGORIES:General,Youth
END:VEVENT
BEGIN:VEVENT
DTSTART;TZID=America/Toronto:20220212T193000
DTEND;TZID=America/Toronto:20220212T210000
DTSTAMP:20260422T061000
CREATED:20220211T212142Z
LAST-MODIFIED:20220211T212142Z
UID:1247-1644694200-1644699600@alhudamuslimsociety.com
SUMMARY:ولادة الإمام محمد الجواد (ع)
DESCRIPTION:
URL:https://alhudamuslimsociety.com/event/%d9%88%d9%84%d8%a7%d8%af%d8%a9-%d8%a7%d9%84%d8%a5%d9%85%d8%a7%d9%85-%d9%85%d8%ad%d9%85%d8%af-%d8%a7%d9%84%d8%ac%d9%88%d8%a7%d8%af-%d8%b9/
CATEGORIES:General,Mosque Programs
END:VEVENT
BEGIN:VEVENT
DTSTART;TZID=America/Toronto:20220122T193000
DTEND;TZID=America/Toronto:20220122T213000
DTSTAMP:20260422T061000
CREATED:20220122T073008Z
LAST-MODIFIED:20220122T073008Z
UID:1228-1642879800-1642887000@alhudamuslimsociety.com
SUMMARY:ولادة السيدة الزهراء (ع)
DESCRIPTION:
URL:https://alhudamuslimsociety.com/event/%d9%88%d9%84%d8%a7%d8%af%d8%a9-%d8%a7%d9%84%d8%b3%d9%8a%d8%af%d8%a9-%d8%a7%d9%84%d8%b2%d9%87%d8%b1%d8%a7%d8%a1-%d8%b9/
CATEGORIES:General,Mosque Programs
END:VEVENT
BEGIN:VEVENT
DTSTART;TZID=America/Toronto:20220113T193000
DTEND;TZID=America/Toronto:20220113T203000
DTSTAMP:20260422T061000
CREATED:20220110T040835Z
LAST-MODIFIED:20220110T040933Z
UID:1202-1642102200-1642105800@alhudamuslimsociety.com
SUMMARY:دعاء كميل Duaa Kumail
DESCRIPTION:
URL:https://alhudamuslimsociety.com/event/%d8%af%d8%b9%d8%a7%d8%a1-%d9%83%d9%85%d9%8a%d9%84-duaa-kumail/2022-01-13/
CATEGORIES:General
END:VEVENT
BEGIN:VEVENT
DTSTART;TZID=America/Toronto:20220106T193000
DTEND;TZID=America/Toronto:20220108T220000
DTSTAMP:20260422T061000
CREATED:20220105T223326Z
LAST-MODIFIED:20220105T223326Z
UID:1193-1641497400-1641679200@alhudamuslimsociety.com
SUMMARY:الليالي الفاطمية
DESCRIPTION:بسم الله الرحمن الرحيم \nالسلام عليكم ورحمة الله وبركاته \n❗تتشرف جمعية الهدى الإسلامية بدعوتكم للمشاركة في احياء ذكرى شهادة السيدة فاطمة الزهراء عليها السلام، وذلك وفق البرنامج التالي ❗وعبر البث المباشر فقط، حفاظا على سلامتكم \nالخميس 6 كانون الثاني، 2022 الساعة 7:30 مساء \n دعاء كميل + مجلس عزاء لسماحة الشيخ علي صالح – \nالجمعة 7 كانون الثاني\, 2022 الساعة 7:30 مساء \nمحاضرة ومجلس عزاء حسيني لسماحة الشيخ همام ناصر الدين ( باللغة الانكليزية) \nالسبت 8 كانون الثاني\, 2022 الساعة 7:30 مساء \nمحاضرة ومجلس عزاء حسيني لسماحة الشيخ علي صالح \n\nأعظم الله أجورنا وأجوركم \n\nSalam Alaikum\, \nAl-Huda Muslim Society invites you to participate in the commemoration of the martyrdom of Sayeda Fatima Al-Zahraa (AS). The three day program will include: \nThursday January 6th @ 7:30 pm\n– Dua Kumail + Majlis Azaa by his eminence Sheikh Ali Saleh \nFriday January 7th @ 7:30 pm\n– Lecture + Majlis Azaa by his eminence Sheikh Hamam Nasereddine (English only) \nSaturday January 8th @ 7:30 pm\n– Lecture + Majlis Azaa by his eminence Sheikh Ali Saleh \n  \n❗ Live Streaming Only ❗ \n  \n \n  \n  \n 
URL:https://alhudamuslimsociety.com/event/%d8%a7%d9%84%d9%84%d9%8a%d8%a7%d9%84%d9%8a-%d8%a7%d9%84%d9%81%d8%a7%d8%b7%d9%85%d9%8a%d8%a9/
CATEGORIES:General
END:VEVENT
BEGIN:VEVENT
DTSTART;TZID=America/Toronto:20211218T193000
DTEND;TZID=America/Toronto:20211218T193000
DTSTAMP:20260422T061000
CREATED:20211111T155632Z
LAST-MODIFIED:20211218T010035Z
UID:1090-1639855800-1639855800@alhudamuslimsociety.com
SUMMARY:الجلسة الأسبوعية
DESCRIPTION:
URL:https://alhudamuslimsociety.com/event/%d8%a7%d9%84%d8%ac%d9%84%d8%b3%d8%a9-%d8%a7%d9%84%d8%a3%d8%b3%d8%a8%d9%88%d8%b9%d9%8a%d8%a9-2021-12-18/
CATEGORIES:General,Mosque Programs,Youth
END:VEVENT
BEGIN:VEVENT
DTSTART;TZID=America/Toronto:20211217T150000
DTEND;TZID=America/Toronto:20211217T190000
DTSTAMP:20260422T061000
CREATED:20211208T011510Z
LAST-MODIFIED:20211208T011510Z
UID:1171-1639753200-1639767600@alhudamuslimsociety.com
SUMMARY:Study Hall
DESCRIPTION:
URL:https://alhudamuslimsociety.com/event/study-hall-15/
CATEGORIES:General,Youth
END:VEVENT
BEGIN:VEVENT
DTSTART;TZID=America/Toronto:20211216T120000
DTEND;TZID=America/Toronto:20211216T160000
DTSTAMP:20260422T061000
CREATED:20211208T011437Z
LAST-MODIFIED:20211208T011437Z
UID:1169-1639656000-1639670400@alhudamuslimsociety.com
SUMMARY:Study Hall
DESCRIPTION:
URL:https://alhudamuslimsociety.com/event/study-hall-14/
CATEGORIES:General,Youth
END:VEVENT
BEGIN:VEVENT
DTSTART;TZID=America/Toronto:20211215T183000
DTEND;TZID=America/Toronto:20211215T220000
DTSTAMP:20260422T061000
CREATED:20211208T011356Z
LAST-MODIFIED:20211208T011356Z
UID:1167-1639593000-1639605600@alhudamuslimsociety.com
SUMMARY:Study Hall
DESCRIPTION:
URL:https://alhudamuslimsociety.com/event/study-hall-13/
CATEGORIES:General,Youth
END:VEVENT
BEGIN:VEVENT
DTSTART;TZID=America/Toronto:20211214T180000
DTEND;TZID=America/Toronto:20211214T220000
DTSTAMP:20260422T061000
CREATED:20211208T011322Z
LAST-MODIFIED:20211208T011322Z
UID:1165-1639504800-1639519200@alhudamuslimsociety.com
SUMMARY:Study Hall
DESCRIPTION:
URL:https://alhudamuslimsociety.com/event/study-hall-12/
CATEGORIES:General,Youth
END:VEVENT
BEGIN:VEVENT
DTSTART;TZID=America/Toronto:20211213T170000
DTEND;TZID=America/Toronto:20211213T210000
DTSTAMP:20260422T061000
CREATED:20211208T011215Z
LAST-MODIFIED:20211208T011215Z
UID:1156-1639414800-1639429200@alhudamuslimsociety.com
SUMMARY:Study Hall
DESCRIPTION:
URL:https://alhudamuslimsociety.com/event/study-hall-11/
CATEGORIES:General,Youth
END:VEVENT
BEGIN:VEVENT
DTSTART;TZID=America/Toronto:20211210T150000
DTEND;TZID=America/Toronto:20211210T190000
DTSTAMP:20260422T061000
CREATED:20211208T011117Z
LAST-MODIFIED:20211208T011117Z
UID:1154-1639148400-1639162800@alhudamuslimsociety.com
SUMMARY:Study Hall
DESCRIPTION:
URL:https://alhudamuslimsociety.com/event/study-hall-10/
CATEGORIES:General,Youth
END:VEVENT
BEGIN:VEVENT
DTSTART;TZID=America/Toronto:20211209T120000
DTEND;TZID=America/Toronto:20211209T160000
DTSTAMP:20260422T061000
CREATED:20211208T011029Z
LAST-MODIFIED:20211208T011029Z
UID:1152-1639051200-1639065600@alhudamuslimsociety.com
SUMMARY:Study Hall
DESCRIPTION:
URL:https://alhudamuslimsociety.com/event/study-hall-9/
CATEGORIES:General,Youth
END:VEVENT
BEGIN:VEVENT
DTSTART;TZID=America/Toronto:20211208T183000
DTEND;TZID=America/Toronto:20211208T220000
DTSTAMP:20260422T061000
CREATED:20211208T011001Z
LAST-MODIFIED:20211208T011001Z
UID:1150-1638988200-1639000800@alhudamuslimsociety.com
SUMMARY:Study Hall
DESCRIPTION:
URL:https://alhudamuslimsociety.com/event/study-hall-8/
CATEGORIES:General,Youth
END:VEVENT
BEGIN:VEVENT
DTSTART;TZID=America/Toronto:20211207T180000
DTEND;TZID=America/Toronto:20211207T220000
DTSTAMP:20260422T061000
CREATED:20211208T010927Z
LAST-MODIFIED:20211208T010927Z
UID:1148-1638900000-1638914400@alhudamuslimsociety.com
SUMMARY:Study Hall
DESCRIPTION:
URL:https://alhudamuslimsociety.com/event/study-hall-7/
CATEGORIES:General,Youth
END:VEVENT
END:VCALENDAR