BEGIN:VCALENDAR
VERSION:2.0
PRODID:-//Al-Huda Muslim Society - ECPv6.15.12.2//NONSGML v1.0//EN
CALSCALE:GREGORIAN
METHOD:PUBLISH
X-WR-CALNAME:Al-Huda Muslim Society
X-ORIGINAL-URL:https://alhudamuslimsociety.com
X-WR-CALDESC:Events for Al-Huda Muslim Society
REFRESH-INTERVAL;VALUE=DURATION:PT1H
X-Robots-Tag:noindex
X-PUBLISHED-TTL:PT1H
BEGIN:VTIMEZONE
TZID:America/Toronto
BEGIN:DAYLIGHT
TZOFFSETFROM:-0500
TZOFFSETTO:-0400
TZNAME:EDT
DTSTART:20200308T070000
END:DAYLIGHT
BEGIN:STANDARD
TZOFFSETFROM:-0400
TZOFFSETTO:-0500
TZNAME:EST
DTSTART:20201101T060000
END:STANDARD
BEGIN:DAYLIGHT
TZOFFSETFROM:-0500
TZOFFSETTO:-0400
TZNAME:EDT
DTSTART:20210314T070000
END:DAYLIGHT
BEGIN:STANDARD
TZOFFSETFROM:-0400
TZOFFSETTO:-0500
TZNAME:EST
DTSTART:20211107T060000
END:STANDARD
BEGIN:DAYLIGHT
TZOFFSETFROM:-0500
TZOFFSETTO:-0400
TZNAME:EDT
DTSTART:20220313T070000
END:DAYLIGHT
BEGIN:STANDARD
TZOFFSETFROM:-0400
TZOFFSETTO:-0500
TZNAME:EST
DTSTART:20221106T060000
END:STANDARD
END:VTIMEZONE
BEGIN:VEVENT
DTSTART;TZID=America/Toronto:20210818T213000
DTEND;TZID=America/Toronto:20210818T213000
DTSTAMP:20260424T044619
CREATED:20210818T035957Z
LAST-MODIFIED:20210818T162614Z
UID:918-1629322200-1629322200@alhudamuslimsociety.com
SUMMARY:Muharram English Program : Night 10
DESCRIPTION:
URL:https://alhudamuslimsociety.com/event/muharram-english-program-night-10/
CATEGORIES:General,Mosque Programs,Youth
END:VEVENT
BEGIN:VEVENT
DTSTART;TZID=America/Toronto:20210817T213000
DTEND;TZID=America/Toronto:20210817T213000
DTSTAMP:20260424T044619
CREATED:20210817T035940Z
LAST-MODIFIED:20210813T050044Z
UID:916-1629235800-1629235800@alhudamuslimsociety.com
SUMMARY:Muharram English Program : Night 9
DESCRIPTION:
URL:https://alhudamuslimsociety.com/event/muharram-english-program-night-9/
CATEGORIES:General,Mosque Programs,Youth
END:VEVENT
BEGIN:VEVENT
DTSTART;TZID=America/Toronto:20210816T213000
DTEND;TZID=America/Toronto:20210816T213000
DTSTAMP:20260424T044619
CREATED:20210816T035913Z
LAST-MODIFIED:20210813T045716Z
UID:908-1629149400-1629149400@alhudamuslimsociety.com
SUMMARY:Muharram English Program : Night 8
DESCRIPTION:
URL:https://alhudamuslimsociety.com/event/muharram-english-program-night-6/
CATEGORIES:General,Mosque Programs,Youth
END:VEVENT
BEGIN:VEVENT
DTSTART;TZID=America/Toronto:20210815T213000
DTEND;TZID=America/Toronto:20210815T213000
DTSTAMP:20260424T044619
CREATED:20210815T035943Z
LAST-MODIFIED:20210813T045859Z
UID:912-1629063000-1629063000@alhudamuslimsociety.com
SUMMARY:Muharram English Program : Night 7
DESCRIPTION:
URL:https://alhudamuslimsociety.com/event/muharram-english-program-night-7/
CATEGORIES:General,Mosque Programs,Youth
END:VEVENT
BEGIN:VEVENT
DTSTART;TZID=America/Toronto:20210814T213000
DTEND;TZID=America/Toronto:20210814T213000
DTSTAMP:20260424T044619
CREATED:20210814T035954Z
LAST-MODIFIED:20210813T045825Z
UID:910-1628976600-1628976600@alhudamuslimsociety.com
SUMMARY:Muharram English Program : Night 6
DESCRIPTION:
URL:https://alhudamuslimsociety.com/event/muharram-english-program-night-6-2/
CATEGORIES:General,Mosque Programs,Youth
END:VEVENT
BEGIN:VEVENT
DTSTART;TZID=America/Toronto:20210813T213000
DTEND;TZID=America/Toronto:20210813T213000
DTSTAMP:20260424T044619
CREATED:20210813T035928Z
LAST-MODIFIED:20210813T215339Z
UID:904-1628890200-1628890200@alhudamuslimsociety.com
SUMMARY:Muharram English Program : Night 5
DESCRIPTION:
URL:https://alhudamuslimsociety.com/event/muharram-english-program-night-5/
CATEGORIES:General,Mosque Programs,Youth
END:VEVENT
BEGIN:VEVENT
DTSTART;TZID=America/Toronto:20210810T213000
DTEND;TZID=America/Toronto:20210810T213000
DTSTAMP:20260424T044619
CREATED:20210810T035927Z
LAST-MODIFIED:20210809T203329Z
UID:895-1628631000-1628631000@alhudamuslimsociety.com
SUMMARY:Muharram English Program : Night 2
DESCRIPTION:
URL:https://alhudamuslimsociety.com/event/muharram-english-program-night-2/
CATEGORIES:General,Mosque Programs,Youth
END:VEVENT
BEGIN:VEVENT
DTSTART;TZID=America/Toronto:20210809T213000
DTEND;TZID=America/Toronto:20210809T213000
DTSTAMP:20260424T044619
CREATED:20210808T173324Z
LAST-MODIFIED:20210808T173324Z
UID:890-1628544600-1628544600@alhudamuslimsociety.com
SUMMARY:Muharram English Program : Night 1
DESCRIPTION:
URL:https://alhudamuslimsociety.com/event/muharram-english-program-night-1/
CATEGORIES:General,Mosque Programs,Youth
END:VEVENT
BEGIN:VEVENT
DTSTART;TZID=America/Toronto:20210507T220000
DTEND;TZID=America/Toronto:20210507T220000
DTSTAMP:20260424T044619
CREATED:20210507T003159Z
LAST-MODIFIED:20210507T003159Z
UID:723-1620424800-1620424800@alhudamuslimsociety.com
SUMMARY:دعاء الافتتاح وبرنامج للشباب والشابات Duaa Iftitah and Youth Program
DESCRIPTION:
URL:https://alhudamuslimsociety.com/event/%d8%af%d8%b9%d8%a7%d8%a1-%d8%a7%d9%84%d8%a7%d9%81%d8%aa%d8%aa%d8%a7%d8%ad-%d9%88%d8%a8%d8%b1%d9%86%d8%a7%d9%85%d8%ac-%d9%84%d9%84%d8%b4%d8%a8%d8%a7%d8%a8-%d9%88%d8%a7%d9%84%d8%b4%d8%a7%d8%a8%d8%a7-7/
CATEGORIES:General,Youth
END:VEVENT
BEGIN:VEVENT
DTSTART;TZID=America/Toronto:20210507T190000
DTEND;TZID=America/Toronto:20210507T190000
DTSTAMP:20260424T044619
CREATED:20210507T003241Z
LAST-MODIFIED:20210507T003241Z
UID:725-1620414000-1620414000@alhudamuslimsociety.com
SUMMARY:تلاوة الجزء الرابع والعشرين من القرآن الكريم
DESCRIPTION:
URL:https://alhudamuslimsociety.com/event/%d8%aa%d9%84%d8%a7%d9%88%d8%a9-%d8%a7%d9%84%d8%ac%d8%b2%d8%a1-%d8%a7%d9%84%d8%b1%d8%a7%d8%a8%d8%b9-%d9%88%d8%a7%d9%84%d8%b9%d8%b4%d8%b1%d9%8a%d9%86-%d9%85%d9%86-%d8%a7%d9%84%d9%82%d8%b1%d8%a2%d9%86/
CATEGORIES:General,Youth
END:VEVENT
BEGIN:VEVENT
DTSTART;TZID=America/Toronto:20210502T220000
DTEND;TZID=America/Toronto:20210502T220000
DTSTAMP:20260424T044619
CREATED:20210501T212550Z
LAST-MODIFIED:20210501T212550Z
UID:689-1619992800-1619992800@alhudamuslimsociety.com
SUMMARY:دعاء الافتتاح وبرنامج للشباب والشابات Duaa Iftitah and Youth Program
DESCRIPTION:
URL:https://alhudamuslimsociety.com/event/%d8%af%d8%b9%d8%a7%d8%a1-%d8%a7%d9%84%d8%a7%d9%81%d8%aa%d8%aa%d8%a7%d8%ad-%d9%88%d8%a8%d8%b1%d9%86%d8%a7%d9%85%d8%ac-%d9%84%d9%84%d8%b4%d8%a8%d8%a7%d8%a8-%d9%88%d8%a7%d9%84%d8%b4%d8%a7%d8%a8%d8%a7-6/
CATEGORIES:General,Youth
END:VEVENT
BEGIN:VEVENT
DTSTART;TZID=America/Toronto:20210425T220000
DTEND;TZID=America/Toronto:20210425T220000
DTSTAMP:20260424T044619
CREATED:20210423T060235Z
LAST-MODIFIED:20210423T060235Z
UID:646-1619388000-1619388000@alhudamuslimsociety.com
SUMMARY:دعاء الافتتاح وبرنامج للشباب والشابات Duaa Iftitah and Youth Program
DESCRIPTION:
URL:https://alhudamuslimsociety.com/event/%d8%af%d8%b9%d8%a7%d8%a1-%d8%a7%d9%84%d8%a7%d9%81%d8%aa%d8%aa%d8%a7%d8%ad-%d9%88%d8%a8%d8%b1%d9%86%d8%a7%d9%85%d8%ac-%d9%84%d9%84%d8%b4%d8%a8%d8%a7%d8%a8-%d9%88%d8%a7%d9%84%d8%b4%d8%a7%d8%a8%d8%a7-4/
CATEGORIES:Youth
END:VEVENT
BEGIN:VEVENT
DTSTART;TZID=America/Toronto:20210423T220000
DTEND;TZID=America/Toronto:20210423T220000
DTSTAMP:20260424T044619
CREATED:20210423T055840Z
LAST-MODIFIED:20210423T055840Z
UID:636-1619215200-1619215200@alhudamuslimsociety.com
SUMMARY:دعاء الافتتاح وبرنامج للشباب والشابات Duaa Iftitah and Youth Program
DESCRIPTION:
URL:https://alhudamuslimsociety.com/event/%d8%af%d8%b9%d8%a7%d8%a1-%d8%a7%d9%84%d8%a7%d9%81%d8%aa%d8%aa%d8%a7%d8%ad-%d9%88%d8%a8%d8%b1%d9%86%d8%a7%d9%85%d8%ac-%d9%84%d9%84%d8%b4%d8%a8%d8%a7%d8%a8-%d9%88%d8%a7%d9%84%d8%b4%d8%a7%d8%a8%d8%a7-3/
CATEGORIES:Youth
END:VEVENT
BEGIN:VEVENT
DTSTART;TZID=America/Toronto:20210418T220000
DTEND;TZID=America/Toronto:20210418T220000
DTSTAMP:20260424T044619
CREATED:20210418T084843Z
LAST-MODIFIED:20210418T084843Z
UID:597-1618783200-1618783200@alhudamuslimsociety.com
SUMMARY:دعاء الافتتاح وبرنامج للشباب والشابات Duaa Iftitah and Youth Program
DESCRIPTION:
URL:https://alhudamuslimsociety.com/event/%d8%af%d8%b9%d8%a7%d8%a1-%d8%a7%d9%84%d8%a7%d9%81%d8%aa%d8%aa%d8%a7%d8%ad-%d9%88%d8%a8%d8%b1%d9%86%d8%a7%d9%85%d8%ac-%d9%84%d9%84%d8%b4%d8%a8%d8%a7%d8%a8-%d9%88%d8%a7%d9%84%d8%b4%d8%a7%d8%a8%d8%a7-2/
CATEGORIES:Youth
END:VEVENT
BEGIN:VEVENT
DTSTART;TZID=America/Toronto:20210416T220000
DTEND;TZID=America/Toronto:20210416T220000
DTSTAMP:20260424T044619
CREATED:20210415T085750Z
LAST-MODIFIED:20210415T085750Z
UID:585-1618610400-1618610400@alhudamuslimsociety.com
SUMMARY:دعاء الافتتاح وبرنامج للشباب والشابات Duaa Iftitah and Youth Program
DESCRIPTION:
URL:https://alhudamuslimsociety.com/event/%d8%af%d8%b9%d8%a7%d8%a1-%d8%a7%d9%84%d8%a7%d9%81%d8%aa%d8%aa%d8%a7%d8%ad-%d9%88%d8%a8%d8%b1%d9%86%d8%a7%d9%85%d8%ac-%d9%84%d9%84%d8%b4%d8%a8%d8%a7%d8%a8-%d9%88%d8%a7%d9%84%d8%b4%d8%a7%d8%a8%d8%a7/
CATEGORIES:General,Youth
END:VEVENT
END:VCALENDAR