BEGIN:VCALENDAR
VERSION:2.0
PRODID:-//Al-Huda Muslim Society - ECPv6.15.12.2//NONSGML v1.0//EN
CALSCALE:GREGORIAN
METHOD:PUBLISH
X-WR-CALNAME:Al-Huda Muslim Society
X-ORIGINAL-URL:https://alhudamuslimsociety.com
X-WR-CALDESC:Events for Al-Huda Muslim Society
REFRESH-INTERVAL;VALUE=DURATION:PT1H
X-Robots-Tag:noindex
X-PUBLISHED-TTL:PT1H
BEGIN:VTIMEZONE
TZID:America/Toronto
BEGIN:DAYLIGHT
TZOFFSETFROM:-0500
TZOFFSETTO:-0400
TZNAME:EDT
DTSTART:20200308T070000
END:DAYLIGHT
BEGIN:STANDARD
TZOFFSETFROM:-0400
TZOFFSETTO:-0500
TZNAME:EST
DTSTART:20201101T060000
END:STANDARD
BEGIN:DAYLIGHT
TZOFFSETFROM:-0500
TZOFFSETTO:-0400
TZNAME:EDT
DTSTART:20210314T070000
END:DAYLIGHT
BEGIN:STANDARD
TZOFFSETFROM:-0400
TZOFFSETTO:-0500
TZNAME:EST
DTSTART:20211107T060000
END:STANDARD
BEGIN:DAYLIGHT
TZOFFSETFROM:-0500
TZOFFSETTO:-0400
TZNAME:EDT
DTSTART:20220313T070000
END:DAYLIGHT
BEGIN:STANDARD
TZOFFSETFROM:-0400
TZOFFSETTO:-0500
TZNAME:EST
DTSTART:20221106T060000
END:STANDARD
END:VTIMEZONE
BEGIN:VEVENT
DTSTART;TZID=America/Toronto:20211002T200000
DTEND;TZID=America/Toronto:20211002T200000
DTSTAMP:20260422T043747
CREATED:20210930T182616Z
LAST-MODIFIED:20210930T182616Z
UID:1008-1633204800-1633204800@alhudamuslimsociety.com
SUMMARY:الجلسة الأسبوعية:ذكرى شهادة الرسول الأعظم محمد (ص)
DESCRIPTION:
URL:https://alhudamuslimsociety.com/event/%d8%a7%d9%84%d8%ac%d9%84%d8%b3%d8%a9-%d8%a7%d9%84%d8%a3%d8%b3%d8%a8%d9%88%d8%b9%d9%8a%d8%a9%d8%b0%d9%83%d8%b1%d9%89-%d8%b4%d9%87%d8%a7%d8%af%d8%a9-%d8%a7%d9%84%d8%b1%d8%b3%d9%88%d9%84-%d8%a7%d9%84/
CATEGORIES:General,Mosque Programs,Youth
END:VEVENT
BEGIN:VEVENT
DTSTART;TZID=America/Toronto:20211001T132000
DTEND;TZID=America/Toronto:20211001T132000
DTSTAMP:20260422T043747
CREATED:20210930T182456Z
LAST-MODIFIED:20210930T182456Z
UID:1006-1633094400-1633094400@alhudamuslimsociety.com
SUMMARY:Friday Prayers
DESCRIPTION:
URL:https://alhudamuslimsociety.com/event/friday-prayers-5/
CATEGORIES:General,Mosque Programs,Youth
END:VEVENT
BEGIN:VEVENT
DTSTART;TZID=America/Toronto:20210930T194500
DTEND;TZID=America/Toronto:20210930T203000
DTSTAMP:20260422T043747
CREATED:20210930T182427Z
LAST-MODIFIED:20210930T234902Z
UID:1004-1633031100-1633033800@alhudamuslimsociety.com
SUMMARY:Duaa Kumail
DESCRIPTION:
URL:https://alhudamuslimsociety.com/event/duaa-kumail-6/
CATEGORIES:General,Mosque Programs,Youth
END:VEVENT
BEGIN:VEVENT
DTSTART;TZID=America/Toronto:20210928T203000
DTEND;TZID=America/Toronto:20210928T203000
DTSTAMP:20260422T043747
CREATED:20210928T052135Z
LAST-MODIFIED:20210928T052135Z
UID:1000-1632861000-1632861000@alhudamuslimsociety.com
SUMMARY:Arbaeen Youth Program
DESCRIPTION:
URL:https://alhudamuslimsociety.com/event/arbaeen-youth-program/
CATEGORIES:General,Mosque Programs,Youth
END:VEVENT
BEGIN:VEVENT
DTSTART;TZID=America/Toronto:20210926T200000
DTEND;TZID=America/Toronto:20210926T200000
DTSTAMP:20260422T043747
CREATED:20210921T002647Z
LAST-MODIFIED:20210921T002647Z
UID:993-1632686400-1632686400@alhudamuslimsociety.com
SUMMARY:برنامج ذكرى أربعين شهادة الإمام الحسين (ع)
DESCRIPTION:
URL:https://alhudamuslimsociety.com/event/%d8%a8%d8%b1%d9%86%d8%a7%d9%85%d8%ac-%d8%b0%d9%83%d8%b1%d9%89-%d8%a3%d8%b1%d8%a8%d8%b9%d9%8a%d9%86-%d8%b4%d9%87%d8%a7%d8%af%d8%a9-%d8%a7%d9%84%d8%a5%d9%85%d8%a7%d9%85-%d8%a7%d9%84%d8%ad%d8%b3%d9%8a/
CATEGORIES:General,Mosque Programs,Youth
END:VEVENT
BEGIN:VEVENT
DTSTART;TZID=America/Toronto:20210926T140000
DTEND;TZID=America/Toronto:20210926T140000
DTSTAMP:20260422T043747
CREATED:20210921T002751Z
LAST-MODIFIED:20210921T002751Z
UID:995-1632664800-1632664800@alhudamuslimsociety.com
SUMMARY:برنامج الأطفال  في الأربعين
DESCRIPTION:
URL:https://alhudamuslimsociety.com/event/%d8%a8%d8%b1%d9%86%d8%a7%d9%85%d8%ac-%d8%a7%d9%84%d8%a3%d8%b7%d9%81%d8%a7%d9%84-%d9%81%d9%8a-%d8%a7%d9%84%d8%a3%d8%b1%d8%a8%d8%b9%d9%8a%d9%86/
CATEGORIES:General,Mosque Programs,Youth
END:VEVENT
BEGIN:VEVENT
DTSTART;TZID=America/Toronto:20210924T132000
DTEND;TZID=America/Toronto:20210924T132000
DTSTAMP:20260422T043747
CREATED:20210921T002549Z
LAST-MODIFIED:20210921T002549Z
UID:991-1632489600-1632489600@alhudamuslimsociety.com
SUMMARY:Friday Prayers
DESCRIPTION:
URL:https://alhudamuslimsociety.com/event/friday-prayers-4/
CATEGORIES:General,Mosque Programs,Youth
END:VEVENT
BEGIN:VEVENT
DTSTART;TZID=America/Toronto:20210923T200000
DTEND;TZID=America/Toronto:20210923T200000
DTSTAMP:20260422T043747
CREATED:20210921T002522Z
LAST-MODIFIED:20210921T002820Z
UID:989-1632427200-1632427200@alhudamuslimsociety.com
SUMMARY:Duaa Kumail and Majlis Azaa
DESCRIPTION:
URL:https://alhudamuslimsociety.com/event/duaa-kumail-5/
CATEGORIES:General,Mosque Programs,Youth
END:VEVENT
BEGIN:VEVENT
DTSTART;TZID=America/Toronto:20210918T203000
DTEND;TZID=America/Toronto:20210918T203000
DTSTAMP:20260422T043747
CREATED:20210916T135457Z
LAST-MODIFIED:20210916T135457Z
UID:986-1631997000-1631997000@alhudamuslimsociety.com
SUMMARY:الجلسة الأسبوعية: محاضرة ومجلس عزاء
DESCRIPTION:
URL:https://alhudamuslimsociety.com/event/%d8%a7%d9%84%d8%ac%d9%84%d8%b3%d8%a9-%d8%a7%d9%84%d8%a3%d8%b3%d8%a8%d9%88%d8%b9%d9%8a%d8%a9-%d9%85%d8%ad%d8%a7%d8%b6%d8%b1%d8%a9-%d9%88%d9%85%d8%ac%d9%84%d8%b3-%d8%b9%d8%b2%d8%a7%d8%a1-3/
CATEGORIES:General,Mosque Programs,Youth
END:VEVENT
BEGIN:VEVENT
DTSTART;TZID=America/Toronto:20210917T132000
DTEND;TZID=America/Toronto:20210917T132000
DTSTAMP:20260422T043747
CREATED:20210916T135335Z
LAST-MODIFIED:20210916T135335Z
UID:984-1631884800-1631884800@alhudamuslimsociety.com
SUMMARY:Friday Prayers
DESCRIPTION:
URL:https://alhudamuslimsociety.com/event/friday-prayers-3/
CATEGORIES:General,Mosque Programs,Youth
END:VEVENT
BEGIN:VEVENT
DTSTART;TZID=America/Toronto:20210916T203000
DTEND;TZID=America/Toronto:20210916T203000
DTSTAMP:20260422T043747
CREATED:20210916T135307Z
LAST-MODIFIED:20210916T135307Z
UID:982-1631824200-1631824200@alhudamuslimsociety.com
SUMMARY:Duaa Kumail
DESCRIPTION:
URL:https://alhudamuslimsociety.com/event/duaa-kumail-4/
CATEGORIES:General,Mosque Programs,Youth
END:VEVENT
BEGIN:VEVENT
DTSTART;TZID=America/Toronto:20210911T180000
DTEND;TZID=America/Toronto:20210911T180000
DTSTAMP:20260422T043747
CREATED:20210907T020126Z
LAST-MODIFIED:20210907T020126Z
UID:973-1631383200-1631383200@alhudamuslimsociety.com
SUMMARY:تقبل التعازي بوفاة العلامة الجليل سماحة الشيخ عبد الأمير قبلان + مجلس عزاء
DESCRIPTION:
URL:https://alhudamuslimsociety.com/event/%d8%aa%d9%82%d8%a8%d9%84-%d8%a7%d9%84%d8%aa%d8%b9%d8%a7%d8%b2%d9%8a-%d8%a8%d9%88%d9%81%d8%a7%d8%a9-%d8%a7%d9%84%d8%b9%d9%84%d8%a7%d9%85%d8%a9-%d8%a7%d9%84%d8%ac%d9%84%d9%8a%d9%84-%d8%b3%d9%85%d8%a7/
CATEGORIES:General,Mosque Programs,Youth
END:VEVENT
BEGIN:VEVENT
DTSTART;TZID=America/Toronto:20210910T210000
DTEND;TZID=America/Toronto:20210910T210000
DTSTAMP:20260422T043747
CREATED:20210910T054719Z
LAST-MODIFIED:20210910T054745Z
UID:977-1631307600-1631307600@alhudamuslimsociety.com
SUMMARY:Friday Night Bonfire
DESCRIPTION:
URL:https://alhudamuslimsociety.com/event/friday-night-bonfire/
CATEGORIES:General,Mosque Programs,Youth
END:VEVENT
BEGIN:VEVENT
DTSTART;TZID=America/Toronto:20210910T132000
DTEND;TZID=America/Toronto:20210910T132000
DTSTAMP:20260422T043747
CREATED:20210902T174244Z
LAST-MODIFIED:20210907T020214Z
UID:957-1631280000-1631280000@alhudamuslimsociety.com
SUMMARY:Friday Prayers
DESCRIPTION:
URL:https://alhudamuslimsociety.com/event/friday-prayers-2/
CATEGORIES:General,Mosque Programs,Youth
END:VEVENT
BEGIN:VEVENT
DTSTART;TZID=America/Toronto:20210909T203000
DTEND;TZID=America/Toronto:20210909T203000
DTSTAMP:20260422T043747
CREATED:20210907T020156Z
LAST-MODIFIED:20210907T020156Z
UID:975-1631219400-1631219400@alhudamuslimsociety.com
SUMMARY:Duaa Kumail
DESCRIPTION:
URL:https://alhudamuslimsociety.com/event/duaa-kumail-3/
CATEGORIES:General,Mosque Programs,Youth
END:VEVENT
BEGIN:VEVENT
DTSTART;TZID=America/Toronto:20210904T203000
DTEND;TZID=America/Toronto:20210904T203000
DTSTAMP:20260422T043747
CREATED:20210903T163147Z
LAST-MODIFIED:20210903T163147Z
UID:960-1630787400-1630787400@alhudamuslimsociety.com
SUMMARY:الجلسة الأسبوعية: محاضرة ومجلس عزاء
DESCRIPTION:
URL:https://alhudamuslimsociety.com/event/%d8%a7%d9%84%d8%ac%d9%84%d8%b3%d8%a9-%d8%a7%d9%84%d8%a3%d8%b3%d8%a8%d9%88%d8%b9%d9%8a%d8%a9-%d9%85%d8%ad%d8%a7%d8%b6%d8%b1%d8%a9-%d9%88%d9%85%d8%ac%d9%84%d8%b3-%d8%b9%d8%b2%d8%a7%d8%a1-2/
CATEGORIES:General,Mosque Programs,Youth
END:VEVENT
BEGIN:VEVENT
DTSTART;TZID=America/Toronto:20210902T203000
DTEND;TZID=America/Toronto:20210902T203000
DTSTAMP:20260422T043747
CREATED:20210902T174158Z
LAST-MODIFIED:20210902T174158Z
UID:955-1630614600-1630614600@alhudamuslimsociety.com
SUMMARY:Duaa Kumail
DESCRIPTION:
URL:https://alhudamuslimsociety.com/event/duaa-kumail-2/
CATEGORIES:General,Mosque Programs,Youth
END:VEVENT
BEGIN:VEVENT
DTSTART;TZID=America/Toronto:20210828T203000
DTEND;TZID=America/Toronto:20210828T203000
DTSTAMP:20260422T043747
CREATED:20210826T051955Z
LAST-MODIFIED:20210826T051955Z
UID:943-1630182600-1630182600@alhudamuslimsociety.com
SUMMARY:الجلسة الأسبوعية: محاضرة ومجلس عزاء
DESCRIPTION:
URL:https://alhudamuslimsociety.com/event/%d8%a7%d9%84%d8%ac%d9%84%d8%b3%d8%a9-%d8%a7%d9%84%d8%a3%d8%b3%d8%a8%d9%88%d8%b9%d9%8a%d8%a9-%d9%85%d8%ad%d8%a7%d8%b6%d8%b1%d8%a9-%d9%88%d9%85%d8%ac%d9%84%d8%b3-%d8%b9%d8%b2%d8%a7%d8%a1/
CATEGORIES:General,Mosque Programs,Youth
END:VEVENT
BEGIN:VEVENT
DTSTART;TZID=America/Toronto:20210827T210000
DTEND;TZID=America/Toronto:20210827T210000
DTSTAMP:20260422T043747
CREATED:20210826T051838Z
LAST-MODIFIED:20210826T051838Z
UID:940-1630098000-1630098000@alhudamuslimsociety.com
SUMMARY:Youth Event: In Person Arabic open Discussion
DESCRIPTION:
URL:https://alhudamuslimsociety.com/event/youth-event-in-person-arabic-open-discussion/
CATEGORIES:General,Mosque Programs,Youth
END:VEVENT
BEGIN:VEVENT
DTSTART;TZID=America/Toronto:20210827T132000
DTEND;TZID=America/Toronto:20210827T132000
DTSTAMP:20260422T043747
CREATED:20210826T051732Z
LAST-MODIFIED:20210826T051732Z
UID:938-1630070400-1630070400@alhudamuslimsociety.com
SUMMARY:Friday Prayers
DESCRIPTION:
URL:https://alhudamuslimsociety.com/event/friday-prayers/
CATEGORIES:General,Mosque Programs,Youth
END:VEVENT
BEGIN:VEVENT
DTSTART;TZID=America/Toronto:20210826T203000
DTEND;TZID=America/Toronto:20210826T203000
DTSTAMP:20260422T043747
CREATED:20210826T051651Z
LAST-MODIFIED:20210826T051651Z
UID:936-1630009800-1630009800@alhudamuslimsociety.com
SUMMARY:Duaa Kumail
DESCRIPTION:
URL:https://alhudamuslimsociety.com/event/duaa-kumail/
CATEGORIES:General,Mosque Programs,Youth
END:VEVENT
BEGIN:VEVENT
DTSTART;TZID=America/Toronto:20210821T213000
DTEND;TZID=America/Toronto:20210821T213000
DTSTAMP:20260422T043747
CREATED:20210821T150039Z
LAST-MODIFIED:20210821T111127Z
UID:931-1629581400-1629581400@alhudamuslimsociety.com
SUMMARY:Muharram English Program : Night 13
DESCRIPTION:
URL:https://alhudamuslimsociety.com/event/muharram-english-program-night-13/
CATEGORIES:General,Mosque Programs,Youth
END:VEVENT
BEGIN:VEVENT
DTSTART;TZID=America/Toronto:20210820T213000
DTEND;TZID=America/Toronto:20210820T213000
DTSTAMP:20260422T043747
CREATED:20210820T150000Z
LAST-MODIFIED:20210820T075135Z
UID:928-1629495000-1629495000@alhudamuslimsociety.com
SUMMARY:Muharram English Program : Night 12
DESCRIPTION:
URL:https://alhudamuslimsociety.com/event/muharram-english-program-night-12/
CATEGORIES:General,Mosque Programs,Youth
END:VEVENT
BEGIN:VEVENT
DTSTART;TZID=America/Toronto:20210819T213000
DTEND;TZID=America/Toronto:20210819T213000
DTSTAMP:20260422T043747
CREATED:20210819T150029Z
LAST-MODIFIED:20210819T055702Z
UID:926-1629408600-1629408600@alhudamuslimsociety.com
SUMMARY:Muharram English Program : Night 11
DESCRIPTION:
URL:https://alhudamuslimsociety.com/event/muharram-english-program-night-11/
CATEGORIES:General,Mosque Programs,Youth
END:VEVENT
BEGIN:VEVENT
DTSTART;TZID=America/Toronto:20210818T213000
DTEND;TZID=America/Toronto:20210818T213000
DTSTAMP:20260422T043747
CREATED:20210818T035957Z
LAST-MODIFIED:20210818T162614Z
UID:918-1629322200-1629322200@alhudamuslimsociety.com
SUMMARY:Muharram English Program : Night 10
DESCRIPTION:
URL:https://alhudamuslimsociety.com/event/muharram-english-program-night-10/
CATEGORIES:General,Mosque Programs,Youth
END:VEVENT
BEGIN:VEVENT
DTSTART;TZID=America/Toronto:20210817T213000
DTEND;TZID=America/Toronto:20210817T213000
DTSTAMP:20260422T043747
CREATED:20210817T035940Z
LAST-MODIFIED:20210813T050044Z
UID:916-1629235800-1629235800@alhudamuslimsociety.com
SUMMARY:Muharram English Program : Night 9
DESCRIPTION:
URL:https://alhudamuslimsociety.com/event/muharram-english-program-night-9/
CATEGORIES:General,Mosque Programs,Youth
END:VEVENT
BEGIN:VEVENT
DTSTART;TZID=America/Toronto:20210816T213000
DTEND;TZID=America/Toronto:20210816T213000
DTSTAMP:20260422T043747
CREATED:20210816T035913Z
LAST-MODIFIED:20210813T045716Z
UID:908-1629149400-1629149400@alhudamuslimsociety.com
SUMMARY:Muharram English Program : Night 8
DESCRIPTION:
URL:https://alhudamuslimsociety.com/event/muharram-english-program-night-6/
CATEGORIES:General,Mosque Programs,Youth
END:VEVENT
BEGIN:VEVENT
DTSTART;TZID=America/Toronto:20210815T213000
DTEND;TZID=America/Toronto:20210815T213000
DTSTAMP:20260422T043747
CREATED:20210815T035943Z
LAST-MODIFIED:20210813T045859Z
UID:912-1629063000-1629063000@alhudamuslimsociety.com
SUMMARY:Muharram English Program : Night 7
DESCRIPTION:
URL:https://alhudamuslimsociety.com/event/muharram-english-program-night-7/
CATEGORIES:General,Mosque Programs,Youth
END:VEVENT
BEGIN:VEVENT
DTSTART;TZID=America/Toronto:20210814T213000
DTEND;TZID=America/Toronto:20210814T213000
DTSTAMP:20260422T043747
CREATED:20210814T035954Z
LAST-MODIFIED:20210813T045825Z
UID:910-1628976600-1628976600@alhudamuslimsociety.com
SUMMARY:Muharram English Program : Night 6
DESCRIPTION:
URL:https://alhudamuslimsociety.com/event/muharram-english-program-night-6-2/
CATEGORIES:General,Mosque Programs,Youth
END:VEVENT
BEGIN:VEVENT
DTSTART;TZID=America/Toronto:20210813T213000
DTEND;TZID=America/Toronto:20210813T213000
DTSTAMP:20260422T043747
CREATED:20210813T035928Z
LAST-MODIFIED:20210813T215339Z
UID:904-1628890200-1628890200@alhudamuslimsociety.com
SUMMARY:Muharram English Program : Night 5
DESCRIPTION:
URL:https://alhudamuslimsociety.com/event/muharram-english-program-night-5/
CATEGORIES:General,Mosque Programs,Youth
END:VEVENT
END:VCALENDAR