BEGIN:VCALENDAR
VERSION:2.0
PRODID:-//Al-Huda Muslim Society - ECPv6.15.12.2//NONSGML v1.0//EN
CALSCALE:GREGORIAN
METHOD:PUBLISH
X-ORIGINAL-URL:https://alhudamuslimsociety.com
X-WR-CALDESC:Events for Al-Huda Muslim Society
REFRESH-INTERVAL;VALUE=DURATION:PT1H
X-Robots-Tag:noindex
X-PUBLISHED-TTL:PT1H
BEGIN:VTIMEZONE
TZID:America/Toronto
BEGIN:DAYLIGHT
TZOFFSETFROM:-0500
TZOFFSETTO:-0400
TZNAME:EDT
DTSTART:20200308T070000
END:DAYLIGHT
BEGIN:STANDARD
TZOFFSETFROM:-0400
TZOFFSETTO:-0500
TZNAME:EST
DTSTART:20201101T060000
END:STANDARD
BEGIN:DAYLIGHT
TZOFFSETFROM:-0500
TZOFFSETTO:-0400
TZNAME:EDT
DTSTART:20210314T070000
END:DAYLIGHT
BEGIN:STANDARD
TZOFFSETFROM:-0400
TZOFFSETTO:-0500
TZNAME:EST
DTSTART:20211107T060000
END:STANDARD
BEGIN:DAYLIGHT
TZOFFSETFROM:-0500
TZOFFSETTO:-0400
TZNAME:EDT
DTSTART:20220313T070000
END:DAYLIGHT
BEGIN:STANDARD
TZOFFSETFROM:-0400
TZOFFSETTO:-0500
TZNAME:EST
DTSTART:20221106T060000
END:STANDARD
BEGIN:DAYLIGHT
TZOFFSETFROM:-0500
TZOFFSETTO:-0400
TZNAME:EDT
DTSTART:20230312T070000
END:DAYLIGHT
BEGIN:STANDARD
TZOFFSETFROM:-0400
TZOFFSETTO:-0500
TZNAME:EST
DTSTART:20231105T060000
END:STANDARD
END:VTIMEZONE
BEGIN:VEVENT
DTSTART;TZID=America/Toronto:20220917T163000
DTEND;TZID=America/Toronto:20220917T220000
DTSTAMP:20260421T230258
CREATED:20220916T225713Z
LAST-MODIFIED:20220916T225713Z
UID:1633-1663432200-1663452000@alhudamuslimsociety.com
SUMMARY:برنامج الأربعين
DESCRIPTION:
URL:https://alhudamuslimsociety.com/event/%d8%a8%d8%b1%d9%86%d8%a7%d9%85%d8%ac-%d8%a7%d9%84%d8%a3%d8%b1%d8%a8%d8%b9%d9%8a%d9%86/
CATEGORIES:General,Mosque Programs,Youth
END:VEVENT
BEGIN:VEVENT
DTSTART;TZID=America/Toronto:20220403T200000
DTEND;TZID=America/Toronto:20220403T200000
DTSTAMP:20260421T230258
CREATED:20220329T210717Z
LAST-MODIFIED:20220329T210717Z
UID:1310-1649016000-1649016000@alhudamuslimsociety.com
SUMMARY:Youth Iftar
DESCRIPTION:
URL:https://alhudamuslimsociety.com/event/youth-iftar/
CATEGORIES:General,Youth
END:VEVENT
BEGIN:VEVENT
DTSTART;TZID=America/Toronto:20220226T193000
DTEND;TZID=America/Toronto:20220226T210000
DTSTAMP:20260421T230258
CREATED:20220226T065146Z
LAST-MODIFIED:20220226T065146Z
UID:1260-1645903800-1645909200@alhudamuslimsociety.com
SUMMARY:المبعث النبوي وشهادة الإمام الكاظم (ع)
DESCRIPTION:
URL:https://alhudamuslimsociety.com/event/%d8%a7%d9%84%d9%85%d8%a8%d8%b9%d8%ab-%d8%a7%d9%84%d9%86%d8%a8%d9%88%d9%8a-%d9%88%d8%b4%d9%87%d8%a7%d8%af%d8%a9-%d8%a7%d9%84%d8%a5%d9%85%d8%a7%d9%85-%d8%a7%d9%84%d9%83%d8%a7%d8%b8%d9%85-%d8%b9/
CATEGORIES:General,Youth
END:VEVENT
BEGIN:VEVENT
DTSTART;TZID=America/Toronto:20211218T193000
DTEND;TZID=America/Toronto:20211218T193000
DTSTAMP:20260421T230258
CREATED:20211111T155632Z
LAST-MODIFIED:20211218T010035Z
UID:1090-1639855800-1639855800@alhudamuslimsociety.com
SUMMARY:الجلسة الأسبوعية
DESCRIPTION:
URL:https://alhudamuslimsociety.com/event/%d8%a7%d9%84%d8%ac%d9%84%d8%b3%d8%a9-%d8%a7%d9%84%d8%a3%d8%b3%d8%a8%d9%88%d8%b9%d9%8a%d8%a9-2021-12-18/
CATEGORIES:General,Mosque Programs,Youth
END:VEVENT
BEGIN:VEVENT
DTSTART;TZID=America/Toronto:20211217T150000
DTEND;TZID=America/Toronto:20211217T190000
DTSTAMP:20260421T230258
CREATED:20211208T011510Z
LAST-MODIFIED:20211208T011510Z
UID:1171-1639753200-1639767600@alhudamuslimsociety.com
SUMMARY:Study Hall
DESCRIPTION:
URL:https://alhudamuslimsociety.com/event/study-hall-15/
CATEGORIES:General,Youth
END:VEVENT
BEGIN:VEVENT
DTSTART;TZID=America/Toronto:20211216T120000
DTEND;TZID=America/Toronto:20211216T160000
DTSTAMP:20260421T230258
CREATED:20211208T011437Z
LAST-MODIFIED:20211208T011437Z
UID:1169-1639656000-1639670400@alhudamuslimsociety.com
SUMMARY:Study Hall
DESCRIPTION:
URL:https://alhudamuslimsociety.com/event/study-hall-14/
CATEGORIES:General,Youth
END:VEVENT
BEGIN:VEVENT
DTSTART;TZID=America/Toronto:20211215T183000
DTEND;TZID=America/Toronto:20211215T220000
DTSTAMP:20260421T230258
CREATED:20211208T011356Z
LAST-MODIFIED:20211208T011356Z
UID:1167-1639593000-1639605600@alhudamuslimsociety.com
SUMMARY:Study Hall
DESCRIPTION:
URL:https://alhudamuslimsociety.com/event/study-hall-13/
CATEGORIES:General,Youth
END:VEVENT
BEGIN:VEVENT
DTSTART;TZID=America/Toronto:20211214T180000
DTEND;TZID=America/Toronto:20211214T220000
DTSTAMP:20260421T230258
CREATED:20211208T011322Z
LAST-MODIFIED:20211208T011322Z
UID:1165-1639504800-1639519200@alhudamuslimsociety.com
SUMMARY:Study Hall
DESCRIPTION:
URL:https://alhudamuslimsociety.com/event/study-hall-12/
CATEGORIES:General,Youth
END:VEVENT
BEGIN:VEVENT
DTSTART;TZID=America/Toronto:20211213T170000
DTEND;TZID=America/Toronto:20211213T210000
DTSTAMP:20260421T230258
CREATED:20211208T011215Z
LAST-MODIFIED:20211208T011215Z
UID:1156-1639414800-1639429200@alhudamuslimsociety.com
SUMMARY:Study Hall
DESCRIPTION:
URL:https://alhudamuslimsociety.com/event/study-hall-11/
CATEGORIES:General,Youth
END:VEVENT
BEGIN:VEVENT
DTSTART;TZID=America/Toronto:20211210T150000
DTEND;TZID=America/Toronto:20211210T190000
DTSTAMP:20260421T230258
CREATED:20211208T011117Z
LAST-MODIFIED:20211208T011117Z
UID:1154-1639148400-1639162800@alhudamuslimsociety.com
SUMMARY:Study Hall
DESCRIPTION:
URL:https://alhudamuslimsociety.com/event/study-hall-10/
CATEGORIES:General,Youth
END:VEVENT
BEGIN:VEVENT
DTSTART;TZID=America/Toronto:20211209T120000
DTEND;TZID=America/Toronto:20211209T160000
DTSTAMP:20260421T230258
CREATED:20211208T011029Z
LAST-MODIFIED:20211208T011029Z
UID:1152-1639051200-1639065600@alhudamuslimsociety.com
SUMMARY:Study Hall
DESCRIPTION:
URL:https://alhudamuslimsociety.com/event/study-hall-9/
CATEGORIES:General,Youth
END:VEVENT
BEGIN:VEVENT
DTSTART;TZID=America/Toronto:20211208T183000
DTEND;TZID=America/Toronto:20211208T220000
DTSTAMP:20260421T230258
CREATED:20211208T011001Z
LAST-MODIFIED:20211208T011001Z
UID:1150-1638988200-1639000800@alhudamuslimsociety.com
SUMMARY:Study Hall
DESCRIPTION:
URL:https://alhudamuslimsociety.com/event/study-hall-8/
CATEGORIES:General,Youth
END:VEVENT
BEGIN:VEVENT
DTSTART;TZID=America/Toronto:20211207T180000
DTEND;TZID=America/Toronto:20211207T220000
DTSTAMP:20260421T230258
CREATED:20211208T010927Z
LAST-MODIFIED:20211208T010927Z
UID:1148-1638900000-1638914400@alhudamuslimsociety.com
SUMMARY:Study Hall
DESCRIPTION:
URL:https://alhudamuslimsociety.com/event/study-hall-7/
CATEGORIES:General,Youth
END:VEVENT
BEGIN:VEVENT
DTSTART;TZID=America/Toronto:20211205T090000
DTEND;TZID=America/Toronto:20211205T130000
DTSTAMP:20260421T230258
CREATED:20211201T174133Z
LAST-MODIFIED:20211201T174133Z
UID:1137-1638694800-1638709200@alhudamuslimsociety.com
SUMMARY:Study Hall
DESCRIPTION:
URL:https://alhudamuslimsociety.com/event/study-hall-6/
CATEGORIES:General,Youth
END:VEVENT
BEGIN:VEVENT
DTSTART;TZID=America/Toronto:20211204T150000
DTEND;TZID=America/Toronto:20211204T190000
DTSTAMP:20260421T230258
CREATED:20211201T174049Z
LAST-MODIFIED:20211201T174049Z
UID:1135-1638630000-1638644400@alhudamuslimsociety.com
SUMMARY:Study Hall
DESCRIPTION:
URL:https://alhudamuslimsociety.com/event/study-hall-5/
CATEGORIES:General,Youth
END:VEVENT
BEGIN:VEVENT
DTSTART;TZID=America/Toronto:20211202T183000
DTEND;TZID=America/Toronto:20211202T220000
DTSTAMP:20260421T230258
CREATED:20211201T174012Z
LAST-MODIFIED:20211201T174012Z
UID:1133-1638469800-1638482400@alhudamuslimsociety.com
SUMMARY:Study Hall
DESCRIPTION:
URL:https://alhudamuslimsociety.com/event/study-hall-4/
CATEGORIES:General,Youth
END:VEVENT
BEGIN:VEVENT
DTSTART;TZID=America/Toronto:20211201T183000
DTEND;TZID=America/Toronto:20211201T220000
DTSTAMP:20260421T230258
CREATED:20211201T173944Z
LAST-MODIFIED:20211201T173944Z
UID:1131-1638383400-1638396000@alhudamuslimsociety.com
SUMMARY:Study Hall
DESCRIPTION:
URL:https://alhudamuslimsociety.com/event/study-hall-3/
CATEGORIES:General,Youth
END:VEVENT
BEGIN:VEVENT
DTSTART;TZID=America/Toronto:20211130T120000
DTEND;TZID=America/Toronto:20211130T160000
DTSTAMP:20260421T230258
CREATED:20211130T174411Z
LAST-MODIFIED:20211130T174411Z
UID:1129-1638273600-1638288000@alhudamuslimsociety.com
SUMMARY:Study Hall
DESCRIPTION:
URL:https://alhudamuslimsociety.com/event/study-hall-2/
CATEGORIES:General,Youth
END:VEVENT
BEGIN:VEVENT
DTSTART;TZID=America/Toronto:20211129T170000
DTEND;TZID=America/Toronto:20211129T210000
DTSTAMP:20260421T230258
CREATED:20211128T170117Z
LAST-MODIFIED:20211124T000302Z
UID:1126-1638205200-1638219600@alhudamuslimsociety.com
SUMMARY:Study Hall
DESCRIPTION:
URL:https://alhudamuslimsociety.com/event/study-hall/
CATEGORIES:General,Youth
END:VEVENT
BEGIN:VEVENT
DTSTART;TZID=America/Toronto:20211113T193000
DTEND;TZID=America/Toronto:20211113T193000
DTSTAMP:20260421T230258
CREATED:20211111T155632Z
LAST-MODIFIED:20211208T011243Z
UID:1084-1636831800-1636831800@alhudamuslimsociety.com
SUMMARY:الجلسة الأسبوعية
DESCRIPTION:
URL:https://alhudamuslimsociety.com/event/%d8%a7%d9%84%d8%ac%d9%84%d8%b3%d8%a9-%d8%a7%d9%84%d8%a3%d8%b3%d8%a8%d9%88%d8%b9%d9%8a%d8%a9/2021-11-13/
CATEGORIES:General,Mosque Programs,Youth
END:VEVENT
BEGIN:VEVENT
DTSTART;TZID=America/Toronto:20211112T120000
DTEND;TZID=America/Toronto:20211112T130000
DTSTAMP:20260421T230258
CREATED:20211111T155816Z
LAST-MODIFIED:20211111T155816Z
UID:1099-1636718400-1636722000@alhudamuslimsociety.com
SUMMARY:Friday Prayers
DESCRIPTION:
URL:https://alhudamuslimsociety.com/event/friday-prayers-11/2021-11-12/
CATEGORIES:General,Mosque Programs,Youth
END:VEVENT
BEGIN:VEVENT
DTSTART;TZID=America/Toronto:20211111T193000
DTEND;TZID=America/Toronto:20211111T193000
DTSTAMP:20260421T230258
CREATED:20211111T155521Z
LAST-MODIFIED:20211111T155521Z
UID:1075-1636659000-1636659000@alhudamuslimsociety.com
SUMMARY:Duaa Kumail
DESCRIPTION:
URL:https://alhudamuslimsociety.com/event/duaa-kumail-12/2021-11-11/
CATEGORIES:General,Mosque Programs,Youth
END:VEVENT
BEGIN:VEVENT
DTSTART;TZID=America/Toronto:20211106T193000
DTEND;TZID=America/Toronto:20211106T193000
DTSTAMP:20260421T230258
CREATED:20211104T182202Z
LAST-MODIFIED:20211104T182202Z
UID:1070-1636227000-1636227000@alhudamuslimsociety.com
SUMMARY:الجلسة الأسبوعية:محاضرة ومجلس عزاء
DESCRIPTION:
URL:https://alhudamuslimsociety.com/event/%d8%a7%d9%84%d8%ac%d9%84%d8%b3%d8%a9-%d8%a7%d9%84%d8%a3%d8%b3%d8%a8%d9%88%d8%b9%d9%8a%d8%a9%d9%85%d8%ad%d8%a7%d8%b6%d8%b1%d8%a9-%d9%88%d9%85%d8%ac%d9%84%d8%b3-%d8%b9%d8%b2%d8%a7%d8%a1-3/
CATEGORIES:General,Mosque Programs,Youth
END:VEVENT
BEGIN:VEVENT
DTSTART;TZID=America/Toronto:20211105T130000
DTEND;TZID=America/Toronto:20211105T130000
DTSTAMP:20260421T230258
CREATED:20211104T182102Z
LAST-MODIFIED:20211104T182102Z
UID:1068-1636117200-1636117200@alhudamuslimsociety.com
SUMMARY:Friday Prayers
DESCRIPTION:
URL:https://alhudamuslimsociety.com/event/friday-prayers-10/
CATEGORIES:General,Mosque Programs,Youth
END:VEVENT
BEGIN:VEVENT
DTSTART;TZID=America/Toronto:20211104T193000
DTEND;TZID=America/Toronto:20211104T193000
DTSTAMP:20260421T230258
CREATED:20211031T000400Z
LAST-MODIFIED:20211031T000400Z
UID:1061-1636054200-1636054200@alhudamuslimsociety.com
SUMMARY:Duaa Kumail
DESCRIPTION:
URL:https://alhudamuslimsociety.com/event/duaa-kumail-11/
CATEGORIES:General,Mosque Programs,Youth
END:VEVENT
BEGIN:VEVENT
DTSTART;TZID=America/Toronto:20211029T130000
DTEND;TZID=America/Toronto:20211029T130000
DTSTAMP:20260421T230258
CREATED:20211026T062719Z
LAST-MODIFIED:20211026T062719Z
UID:1051-1635512400-1635512400@alhudamuslimsociety.com
SUMMARY:Friday Prayers
DESCRIPTION:
URL:https://alhudamuslimsociety.com/event/friday-prayers-9/
CATEGORIES:General,Mosque Programs,Youth
END:VEVENT
BEGIN:VEVENT
DTSTART;TZID=America/Toronto:20211028T193000
DTEND;TZID=America/Toronto:20211028T193000
DTSTAMP:20260421T230258
CREATED:20211026T062653Z
LAST-MODIFIED:20211026T062653Z
UID:1049-1635449400-1635449400@alhudamuslimsociety.com
SUMMARY:Duaa Kumail
DESCRIPTION:
URL:https://alhudamuslimsociety.com/event/duaa-kumail-10/
CATEGORIES:General,Mosque Programs,Youth
END:VEVENT
BEGIN:VEVENT
DTSTART;TZID=America/Toronto:20211022T130000
DTEND;TZID=America/Toronto:20211022T130000
DTSTAMP:20260421T230258
CREATED:20211018T230212Z
LAST-MODIFIED:20211018T230212Z
UID:1039-1634907600-1634907600@alhudamuslimsociety.com
SUMMARY:Friday Prayers
DESCRIPTION:
URL:https://alhudamuslimsociety.com/event/friday-prayers-8/
CATEGORIES:General,Mosque Programs,Youth
END:VEVENT
BEGIN:VEVENT
DTSTART;TZID=America/Toronto:20211021T193000
DTEND;TZID=America/Toronto:20211021T193000
DTSTAMP:20260421T230258
CREATED:20211018T230143Z
LAST-MODIFIED:20211021T203058Z
UID:1037-1634844600-1634844600@alhudamuslimsociety.com
SUMMARY:Duaa Kumail
DESCRIPTION:
URL:https://alhudamuslimsociety.com/event/duaa-kumail-9/
CATEGORIES:General,Mosque Programs,Youth
END:VEVENT
BEGIN:VEVENT
DTSTART;TZID=America/Toronto:20211016T190000
DTEND;TZID=America/Toronto:20211016T190000
DTSTAMP:20260421T230258
CREATED:20211014T215339Z
LAST-MODIFIED:20211014T215339Z
UID:1028-1634410800-1634410800@alhudamuslimsociety.com
SUMMARY:الجلسة الأسبوعية:محاضرة ومجلس عزاء
DESCRIPTION:
URL:https://alhudamuslimsociety.com/event/%d8%a7%d9%84%d8%ac%d9%84%d8%b3%d8%a9-%d8%a7%d9%84%d8%a3%d8%b3%d8%a8%d9%88%d8%b9%d9%8a%d8%a9%d9%85%d8%ad%d8%a7%d8%b6%d8%b1%d8%a9-%d9%88%d9%85%d8%ac%d9%84%d8%b3-%d8%b9%d8%b2%d8%a7%d8%a1-2/
CATEGORIES:General,Mosque Programs,Youth
END:VEVENT
END:VCALENDAR